BEGIN:VCALENDAR
VERSION:2.0
PRODID:-//Renare Mark - ECPv6.15.20//NONSGML v1.0//EN
CALSCALE:GREGORIAN
METHOD:PUBLISH
X-ORIGINAL-URL:https://www.renaremark.se
X-WR-CALDESC:Händelser för Renare Mark
REFRESH-INTERVAL;VALUE=DURATION:PT1H
X-Robots-Tag:noindex
X-PUBLISHED-TTL:PT1H
BEGIN:VTIMEZONE
TZID:Europe/Stockholm
BEGIN:DAYLIGHT
TZOFFSETFROM:+0100
TZOFFSETTO:+0200
TZNAME:CEST
DTSTART:20240331T010000
END:DAYLIGHT
BEGIN:STANDARD
TZOFFSETFROM:+0200
TZOFFSETTO:+0100
TZNAME:CET
DTSTART:20241027T010000
END:STANDARD
BEGIN:DAYLIGHT
TZOFFSETFROM:+0100
TZOFFSETTO:+0200
TZNAME:CEST
DTSTART:20250330T010000
END:DAYLIGHT
BEGIN:STANDARD
TZOFFSETFROM:+0200
TZOFFSETTO:+0100
TZNAME:CET
DTSTART:20251026T010000
END:STANDARD
BEGIN:DAYLIGHT
TZOFFSETFROM:+0100
TZOFFSETTO:+0200
TZNAME:CEST
DTSTART:20260329T010000
END:DAYLIGHT
BEGIN:STANDARD
TZOFFSETFROM:+0200
TZOFFSETTO:+0100
TZNAME:CET
DTSTART:20261025T010000
END:STANDARD
END:VTIMEZONE
BEGIN:VEVENT
DTSTART;TZID=Europe/Stockholm:20251121T080000
DTEND;TZID=Europe/Stockholm:20251121T082500
DTSTAMP:20260423T201238
CREATED:20251117T094819Z
LAST-MODIFIED:20251117T095810Z
UID:20884-1763712000-1763713500@www.renaremark.se
SUMMARY:Tips och trix – Inventering av sediment - Tematisk avdelning Vatten och Sediment
DESCRIPTION:Under hösten 2025 bjuder Nätverket Renare Marks tematisk avdelning sediment & vatten på ännu en frukostseminarieserie där du under november och december kan vidare fördjupa dig i sediment. Alltifrån tips och trix vid sedimentprovtagning till inventering och användningsområden för sediment. Vi bjuder även på en utblick i miljöpåverkan i krigets Ukraina. \nUpplägg för samtliga seminarium \nSeminarierna startar 08.00 med en lite flytande avslutningsti\, men aldrig senare än 09.00. Målsättningen är att föresläsningen pågår i 25 minuter som efterföljs av 10 minuters frågestund. Om diskussionsbehovet är stort\, släpper moderatoer iväg deltagare vid 08:35\, men det finns möjlgihet att stanna kvar till 09:00. \nSamtliga seminarium sker via TEAMs. Länk skickas ut på eftermiddagen dagen innan seminariet. Notera att för att ta del av länk behöver du anmäla deltagande till samtliga seminarium som du vill delta på. Deltagandet är gratis. \nAnmälning sker genom denna länk. \nPlats och tid \n\n\n\nTITEL\nNÄR\nFÖREDRAGSHÅLLARE\nMODERATOR\n\n\nTips och trix – Inventering av sediment\nFredag 21 November 8:00-8:25 + ca 10 min frågor (engelska)\nMagnus Persson (Ensucon) och\nOlle Hallqvist (Ramboll)\nErik Törner\n\n\nSå drabbas miljön i krigets Ukraina\nFredag 28 November 8:00-8:25 + ca 10 min frågor\nBrian Kuns (SLU)\n\n\n\nInlandsediment påverkade av sura sulfatjordar\nFredag 5 December  8:00-8:25 + ca 10 min frågor\nSina Shahabi Ghahfarokhi (WSP)\nTobias Porsbring\n\n\nMuddermassor till byggmaterial\nTorsdag 11 december 8:00-8:25 + ca 10 min frågor\nJohan Persson (Kalmar Kommun)\nLena Holm\n\n\n\n  \nVARMT VÄLKOMMEN \nÖnskar Styrelsen för Nätverket Renare Marks tematiska avdelning sediment och vatten
URL:https://www.renaremark.se/event/tips-och-trix-inventering-av-sediment/
CATEGORIES:Tematiska evenemang,Vatten och sediment
ATTACH;FMTTYPE=image/jpeg:https://www.renaremark.se/wp-content/uploads/2018/10/sediment.jpg
END:VEVENT
BEGIN:VEVENT
DTSTART;TZID=Europe/Stockholm:20251128T080000
DTEND;TZID=Europe/Stockholm:20251128T082500
DTSTAMP:20260423T201238
CREATED:20251117T094956Z
LAST-MODIFIED:20251117T094956Z
UID:20886-1764316800-1764318300@www.renaremark.se
SUMMARY:Så drabbas miljön i krigets Ukraina - Tematisk avdelning sediment
DESCRIPTION:Under hösten 2025 bjuder Nätverket Renare Marks tematisk avdelning sediment & vatten på ännu en frukostseminarieserie där du under november och december kan vidare fördjupa dig i sediment. Alltifrån tips och trix vid sedimentprovtagning till inventering och användningsområden för sediment. Vi bjuder även på en utblick i miljöpåverkan i krigets Ukraina. \nUpplägg för samtliga seminarium \nSeminarierna startar 08.00 med en lite flytande avslutningsti\, men aldrig senare än 09.00. Målsättningen är att föresläsningen pågår i 25 minuter som efterföljs av 10 minuters frågestund. Om diskussionsbehovet är stort\, släpper moderatoer iväg deltagare vid 08:35\, men det finns möjlgihet att stanna kvar till 09:00. \nSamtliga seminarium sker via TEAMs. Länk skickas ut på eftermiddagen dagen innan seminariet. Notera att för att ta del av länk behöver du anmäla deltagande till samtliga seminarium som du vill delta på. Deltagandet är gratis. \nAnmälning sker genom denna länk. \nPlats och tid \n\n\n\nTITEL\nNÄR\nFÖREDRAGSHÅLLARE\nMODERATOR\n\n\nTips och trix – Inventering av sediment\nFredag 21 November 8:00-8:25 + ca 10 min frågor (engelska)\nMagnus Persson (Ensucon) och\nOlle Hallqvist (Ramboll)\nErik Törner\n\n\nSå drabbas miljön i krigets Ukraina\nFredag 28 November 8:00-8:25 + ca 10 min frågor\nBrian Kuns (SLU)\n\n\n\nInlandsediment påverkade av sura sulfatjordar\nFredag 5 December  8:00-8:25 + ca 10 min frågor\nSina Shahabi Ghahfarokhi (WSP)\nTobias Porsbring\n\n\nMuddermassor till byggmaterial\nTorsdag 11 december 8:00-8:25 + ca 10 min frågor\nJohan Persson (Kalmar Kommun)\nLena Holm\n\n\n\n  \nVARMT VÄLKOMMEN \n  \nÖnskar Styrelsen för Nätverket Renare Marks tematiska avdelning sediment och vatten
URL:https://www.renaremark.se/event/sa-drabbas-miljon-i-krigets-ukraina-tematisk-avdelning-sediment/
CATEGORIES:Tematiska evenemang,Vatten och sediment
ATTACH;FMTTYPE=image/png:https://www.renaremark.se/wp-content/uploads/2022/05/cropped-symbol-small.png
END:VEVENT
END:VCALENDAR