BEGIN:VCALENDAR
VERSION:2.0
PRODID:-//Renare Mark - ECPv6.15.20//NONSGML v1.0//EN
CALSCALE:GREGORIAN
METHOD:PUBLISH
X-WR-CALNAME:Renare Mark
X-ORIGINAL-URL:https://www.renaremark.se
X-WR-CALDESC:Händelser för Renare Mark
REFRESH-INTERVAL;VALUE=DURATION:PT1H
X-Robots-Tag:noindex
X-PUBLISHED-TTL:PT1H
BEGIN:VTIMEZONE
TZID:Europe/Stockholm
BEGIN:DAYLIGHT
TZOFFSETFROM:+0100
TZOFFSETTO:+0200
TZNAME:CEST
DTSTART:20240331T010000
END:DAYLIGHT
BEGIN:STANDARD
TZOFFSETFROM:+0200
TZOFFSETTO:+0100
TZNAME:CET
DTSTART:20241027T010000
END:STANDARD
BEGIN:DAYLIGHT
TZOFFSETFROM:+0100
TZOFFSETTO:+0200
TZNAME:CEST
DTSTART:20250330T010000
END:DAYLIGHT
BEGIN:STANDARD
TZOFFSETFROM:+0200
TZOFFSETTO:+0100
TZNAME:CET
DTSTART:20251026T010000
END:STANDARD
BEGIN:DAYLIGHT
TZOFFSETFROM:+0100
TZOFFSETTO:+0200
TZNAME:CEST
DTSTART:20260329T010000
END:DAYLIGHT
BEGIN:STANDARD
TZOFFSETFROM:+0200
TZOFFSETTO:+0100
TZNAME:CET
DTSTART:20261025T010000
END:STANDARD
END:VTIMEZONE
BEGIN:VEVENT
DTSTART;TZID=Europe/Stockholm:20250821T140000
DTEND;TZID=Europe/Stockholm:20250821T160000
DTSTAMP:20260421T092445
CREATED:20250716T130413Z
LAST-MODIFIED:20250811T084036Z
UID:20604-1755784800-1755792000@www.renaremark.se
SUMMARY:Region syd arrangerar studiebesök kemtvätt i Hässleholm
DESCRIPTION:Renare Mark Region Syd bjuder in till studiebesök för saneringen av kemtvätten på Nygatan 7 i Hässleholm. Jord\, berg och grundvatten har förorenats av den tidigare kemtvätten som legat på platsen som klassas som en av Sveriges mest förorenade. I december påbörjade kommunen förberedelser för saneringen genom att riva byggnaderna. Saneringen ska ske genom värmebehandling där de klorerade lösningsmedlen i marken förångas och omhändertas. \nRenare mark i Region Syd bjuder nu in till studiebesök för möjlighet att besöka saneringen i Hässleholm och höra mer om arbetet. \nUnder besöket bjuds det på fika. \nDatum:    21 augusti\nPlats:      Kunskapsporten\, Norra stationsgatan 2A\, Hässleholm\nTid:         14.00-16.00\nPris:       Gratis \nProgram\n14:00      Gemensam presentation av projektet\n15:00      Platsbesök \nAnmälan\nAnmälan gör du via denna länk. \nKontakt för mer frågor\nDavid Bohgard\, Ordförande Region Syd
URL:https://www.renaremark.se/event/region-syd-arrangerar-studiebesok-kemtvatt-i-hassleholm/
LOCATION:Norra Stationsgatan 8\, Hässleholm\, Norra Stationsgatan 8\, Hässleholm
CATEGORIES:NRM Regionala,Region Syd
ATTACH;FMTTYPE=image/jpeg:https://www.renaremark.se/wp-content/uploads/2025/07/hassleholm_kemtvatt.jpg
END:VEVENT
END:VCALENDAR