BEGIN:VCALENDAR
VERSION:2.0
PRODID:-//Renare Mark - ECPv6.15.20//NONSGML v1.0//EN
CALSCALE:GREGORIAN
METHOD:PUBLISH
X-ORIGINAL-URL:https://www.renaremark.se
X-WR-CALDESC:Händelser för Renare Mark
REFRESH-INTERVAL;VALUE=DURATION:PT1H
X-Robots-Tag:noindex
X-PUBLISHED-TTL:PT1H
BEGIN:VTIMEZONE
TZID:Europe/Stockholm
BEGIN:DAYLIGHT
TZOFFSETFROM:+0100
TZOFFSETTO:+0200
TZNAME:CEST
DTSTART:20220327T010000
END:DAYLIGHT
BEGIN:STANDARD
TZOFFSETFROM:+0200
TZOFFSETTO:+0100
TZNAME:CET
DTSTART:20221030T010000
END:STANDARD
BEGIN:DAYLIGHT
TZOFFSETFROM:+0100
TZOFFSETTO:+0200
TZNAME:CEST
DTSTART:20230326T010000
END:DAYLIGHT
BEGIN:STANDARD
TZOFFSETFROM:+0200
TZOFFSETTO:+0100
TZNAME:CET
DTSTART:20231029T010000
END:STANDARD
BEGIN:DAYLIGHT
TZOFFSETFROM:+0100
TZOFFSETTO:+0200
TZNAME:CEST
DTSTART:20240331T010000
END:DAYLIGHT
BEGIN:STANDARD
TZOFFSETFROM:+0200
TZOFFSETTO:+0100
TZNAME:CET
DTSTART:20241027T010000
END:STANDARD
END:VTIMEZONE
BEGIN:VEVENT
DTSTART;TZID=Europe/Stockholm:20231011T133000
DTEND;TZID=Europe/Stockholm:20231011T160000
DTSTAMP:20260424T144117
CREATED:20230926T055829Z
LAST-MODIFIED:20230928T090909Z
UID:18289-1697031000-1697040000@www.renaremark.se
SUMMARY:Renare Mark Region Syd bjuder in till studiebesök
DESCRIPTION:Vill du lära dig mer om återvinning och uppgradering av schaktmassor?\n\nDå är du välkommen att delta vid ett halvdagsseminarium på Swerocks anläggning i Malmö. Var och en reser dit på eget sätt och vi möts upp vid entrén. Vi kommer också göra platsbesök. \nVi delas upp i två grupper där den ena gruppen börjar med studiebesök och den andra får lyssna till en presentation av verksamheten i ett av anläggningens konferensrum. Här efter tas en paus och vi bjuder på fika. \nSkyddsutrustning: ta med egna skyddskor. Varselväst och hjälm finns att låna\, men har du egen utrustning så ta med detta också. \nAnmäl dig via denna länk\, senast 6 oktober. \nVarmt välkomna\nStyrelsen Region Syd \n 
URL:https://www.renaremark.se/event/renare-mark-region-syd-bjuder-in-till-studiebesok/
CATEGORIES:Region Syd
ATTACH;FMTTYPE=image/jpeg:https://www.renaremark.se/wp-content/uploads/2023/09/5C005B70-A89A-46CB-A12E-D4BAF34C1B3E.jpeg
END:VEVENT
END:VCALENDAR