BEGIN:VCALENDAR
VERSION:2.0
PRODID:-//Renare Mark - ECPv6.15.20//NONSGML v1.0//EN
CALSCALE:GREGORIAN
METHOD:PUBLISH
X-WR-CALNAME:Renare Mark
X-ORIGINAL-URL:https://www.renaremark.se
X-WR-CALDESC:Händelser för Renare Mark
REFRESH-INTERVAL;VALUE=DURATION:PT1H
X-Robots-Tag:noindex
X-PUBLISHED-TTL:PT1H
BEGIN:VTIMEZONE
TZID:Europe/Stockholm
BEGIN:DAYLIGHT
TZOFFSETFROM:+0100
TZOFFSETTO:+0200
TZNAME:CEST
DTSTART:20250330T010000
END:DAYLIGHT
BEGIN:STANDARD
TZOFFSETFROM:+0200
TZOFFSETTO:+0100
TZNAME:CET
DTSTART:20251026T010000
END:STANDARD
BEGIN:DAYLIGHT
TZOFFSETFROM:+0100
TZOFFSETTO:+0200
TZNAME:CEST
DTSTART:20260329T010000
END:DAYLIGHT
BEGIN:STANDARD
TZOFFSETFROM:+0200
TZOFFSETTO:+0100
TZNAME:CET
DTSTART:20261025T010000
END:STANDARD
BEGIN:DAYLIGHT
TZOFFSETFROM:+0100
TZOFFSETTO:+0200
TZNAME:CEST
DTSTART:20270328T010000
END:DAYLIGHT
BEGIN:STANDARD
TZOFFSETFROM:+0200
TZOFFSETTO:+0100
TZNAME:CET
DTSTART:20271031T010000
END:STANDARD
END:VTIMEZONE
BEGIN:VEVENT
DTSTART;TZID=Europe/Stockholm:20260512T120000
DTEND;TZID=Europe/Stockholm:20260512T130000
DTSTAMP:20260421T140704
CREATED:20260416T105808Z
LAST-MODIFIED:20260416T105809Z
UID:22111-1778587200-1778590800@www.renaremark.se
SUMMARY:Region Norr bjuder in till Nätverkslunch
DESCRIPTION:Nu är det dags för nätverkande\, i sin allra enklaste men effektisvaste form! \nNätverket Renar Mark region Norr bjuder den 12 maj in till nätverksalunch. Vi samlas på olika orter i Norr och träffar kollegor i branschen över en lunch. Lunchen samordnas och bokas av en styrelserepresenatnt från region norr. Lunchen sker till självkostnadspris. \nPlatser och anmälan \ni följande orter träffas vi\, skicka ett mejl om du vill vara med till: \n\n\n\nOrt\nAnmäl dig till\n\n\nSundsvall\nJoel Nordin\n\n\nÖstersund\nJosefine Agerberg\n\n\nUmeå\nIsabelle Lindfors\n\n\nLuleå\nPär Alapää\n\n\n\n  \nFinns din ort inte med? Skicka iväg ett mejl till Joel Nordin\, så publicerar vi att intresset finns på denna hemsida och hoppas att fler vill ansluta till ditt initiativ. \n  \nVarmt Välkomna önskar \nStyrelsen för Nätverket Renare Mark region Norr
URL:https://www.renaremark.se/event/region-norr-bjuder-in-till-natverkslunch/
CATEGORIES:NRM Regionala,Region Norr
ATTACH;FMTTYPE=image/png:https://www.renaremark.se/wp-content/uploads/2026/04/davector-handshake-10064721.png
END:VEVENT
BEGIN:VEVENT
DTSTART;TZID=Europe/Stockholm:20260520T140000
DTEND;TZID=Europe/Stockholm:20260520T160000
DTSTAMP:20260421T140704
CREATED:20260416T110053Z
LAST-MODIFIED:20260416T123111Z
UID:22105-1779285600-1779292800@www.renaremark.se
SUMMARY:Region Öst bjuder in till studiebesök på Circle K i Mjölby
DESCRIPTION:Vid den tidigare drivmedelsanläggningen vid Skänningevägen i Mjölby utfördes en schaktsanering i samband med nedläggning. Då förorening påträffats på ett större djup (4-9 m) kunde inte hela föroreningen tas om hand. Med anledning av detta pågår nu en in-situ sanering med kemisk oxidation i området som påbörjades 2024. \nRenare mark Öst bjuder nu in till studiebesök och föredrag med representanter från Circle K\, Geoserve och Geosyntec. \nUnder föredraget kommer följande frågor försöka besvaras: \n\nHur började allt?\nHur går en in-situ saneringen till i praktiken?\nVilka utmaningar/lärdomar har projektet bjudit på?\nCircle K använder en egen modell för samarbete -hur ser upplägget för detta ut?\nOch sist men inte minst -funkar det?\n\nVi ses först på plats på Skänningevägen 2\, därefter tar vi en kortare promenad till Industrigatan 9 där det bjuds på lite fika innan vi lyssnar på spännande föredrag om projektet och därefter får ni möjlighet att ställa frågor. \nPlats\, tid och anmälan \n\n\n\nDatum\n2026-05-20\n\n\nPlats\nSkänningevägen 2\, Mjölby\n\n\nTid\n14:00-16:00\n\n\nAnmälan\ngör du här (begränsat antal 40 st)\n\n\n\n  \nVarmt välkomna önskar \nStyrelsen för Nätverket Renare Mark region Öst \n 
URL:https://www.renaremark.se/event/region-ost-bjuder-in-till-studiebesok-pa-circle-k-i-mjolby/
LOCATION:Cirkel K i Mjölby\, Skänningevägen 2\, Mjölby\, Sweden
CATEGORIES:NRM Regionala,Region Öst
ATTACH;FMTTYPE=image/jpeg:https://www.renaremark.se/wp-content/uploads/2026/04/insitu-scaled.jpg
END:VEVENT
END:VCALENDAR