BEGIN:VCALENDAR
VERSION:2.0
PRODID:-//Renare Mark - ECPv6.15.20//NONSGML v1.0//EN
CALSCALE:GREGORIAN
METHOD:PUBLISH
X-ORIGINAL-URL:https://www.renaremark.se
X-WR-CALDESC:Händelser för Renare Mark
REFRESH-INTERVAL;VALUE=DURATION:PT1H
X-Robots-Tag:noindex
X-PUBLISHED-TTL:PT1H
BEGIN:VTIMEZONE
TZID:Europe/Stockholm
BEGIN:DAYLIGHT
TZOFFSETFROM:+0100
TZOFFSETTO:+0200
TZNAME:CEST
DTSTART:20240331T010000
END:DAYLIGHT
BEGIN:STANDARD
TZOFFSETFROM:+0200
TZOFFSETTO:+0100
TZNAME:CET
DTSTART:20241027T010000
END:STANDARD
BEGIN:DAYLIGHT
TZOFFSETFROM:+0100
TZOFFSETTO:+0200
TZNAME:CEST
DTSTART:20250330T010000
END:DAYLIGHT
BEGIN:STANDARD
TZOFFSETFROM:+0200
TZOFFSETTO:+0100
TZNAME:CET
DTSTART:20251026T010000
END:STANDARD
BEGIN:DAYLIGHT
TZOFFSETFROM:+0100
TZOFFSETTO:+0200
TZNAME:CEST
DTSTART:20260329T010000
END:DAYLIGHT
BEGIN:STANDARD
TZOFFSETFROM:+0200
TZOFFSETTO:+0100
TZNAME:CET
DTSTART:20261025T010000
END:STANDARD
END:VTIMEZONE
BEGIN:VEVENT
DTSTART;TZID=Europe/Stockholm:20250912T130000
DTEND;TZID=Europe/Stockholm:20250912T134500
DTSTAMP:20260421T230217
CREATED:20250622T181209Z
LAST-MODIFIED:20250622T181209Z
UID:20418-1757682000-1757684700@www.renaremark.se
SUMMARY:Region Norr bjuder in till digitalt seminairum om Stabilisering och solidifiering (S/S) av metallförorenad jord med bioaska – Näsudden
DESCRIPTION:Lale Andreas (LTU) kommer berätta om ett forskningsprojekt där möjligheten att stabilisera och solidifiera (S/S) metallförorenad jord genom inblandning av bioaska och ekocement undersöks. \nNäsudden i Skellefteå är ett naturområde som tidigare har blivit kraftigt förorenat genom luftburna partiklar från Bolidens smältverk. Metallföroreningarna ligger ytlig i ett upp till decimetertjockt skikt\, men storleken på området gör det att den totala mängden förorenad jord uppskattas upp till 100 000 ton. \nMålet med projektet är att testa stabilisering/solidifiering (S/S) så att den behandlade jorden inte behöver forslas bort till en deponi utan kan användas på plats\, i t ex bullervallar\, utan att påverka miljön på ett negativt sätt.\nFrågorna som skall besvaras är\n1) hur S/S kan anpassas för den aktuella jorden för bästa kemisk och mekanisk stabilitet samtidigt som behovet av tillsatser minimeras\n2) hur den behandlade jorden påverkar den omgivande miljön\n3) hur kostnadsbilden skulle se ut vid full-skalig tillämpning. \nDet treåriga projektet genomförs av forskare på Avfallsteknik på LTU i samarbete med Skellefteå kommun och AFRY. Projektet började i augusti 2022 och omfattar både labb- och fältförsök. På seminariet kommer resultat från de inledande försöken presenteras samt första erfarenheter från pilotförsöket på Näsudden. \nLale Andreas\, bitr. professor i avfallsteknik på Luleå tekniska universitet\nHon har en bakgrund i V/A-teknik men har de senaste 30+ åren arbetat och forskat inom avfallsteknik\, t ex med emissioner från och sluttäckning av gamla avfallsupplag\, och med\nåtervinning av industriella avfall som konstruktionsmaterial\, såsom olika slagger från stålindustrin\, rester från pappersindustrin och askor. \nPresentationen kommer ske digitalt. \nAnmälan\nFölj länk för att anmäla dig.\nLänk till seminariets sändning skickas ut dagen innan samt samma dag som seminariet pågår.\nDeltagande är gratis\, både för medlemmar och icke medlemmar i Nätverket Renare Mark \nPlats och tid\nDatum: 12/9\nPlats: Teams\nTid: 13.00-13.45 \nOrganisation\nPresentatör: Lale Andreas\, LTU\nKontaktperson för evenemanget: Pär Alapää\, Ordförande Region Norr\nAndra involverade personer: Ivan Carabante\nArrangörsgrupp: Styrelsen för Nätverket Renare Mark Region Norr \n 
URL:https://www.renaremark.se/event/region-norr-bjuder-in-till-digitalt-seminairum-om-stabilisering-och-solidifiering-s-s-av-metallfororenad-jord-med-bioaska-nasudden/
CATEGORIES:NRM Regionala,Region Norr
ATTACH;FMTTYPE=image/jpeg:https://www.renaremark.se/wp-content/uploads/2025/05/nasudden1.jpg
END:VEVENT
BEGIN:VEVENT
DTSTART;TZID=Europe/Stockholm:20250930T120000
DTEND;TZID=Europe/Stockholm:20250930T124500
DTSTAMP:20260421T230217
CREATED:20250622T184349Z
LAST-MODIFIED:20250902T065009Z
UID:20563-1759233600-1759236300@www.renaremark.se
SUMMARY:Nätverket Renare Mark region Norr bjuder in till webbinarium om sanering av Blaiken
DESCRIPTION:Blaiken är en f.d. gruva belägen norr om Storuman. Under ett par år på 2000-talet bröts här malm från en zinkfyndighet. Från verksamhetsområdet pågår spridning av framför allt zink till recipienten Storjuktan. Efterbehandling av gruvan pågår och tills tillräcklig effekt av huvudåtgärden (övertäckning av gråbergstippen) erhållits genomförs vattenrening av utgående vatten. Genom att arbeta med en vattenbalans över området kan särskilt viktiga flödesvägar identifieras och insatser fokuseras på ställen där de gör mest nytta.  \nAnmälan\nFölj länk för att anmäla dig.\nLänk till seminariets sändning skickas ut dagen innan samt samma dag som seminariet pågår.\nDeltagande är gratis\, både för medlemmar och icke medlemmar i Nätverket Renare Mark \nPlats och tid\nDatum: 30/9\nPlats: Teams\nTid: 12:00-12:45 \nOrganisation\nPresentatör: Katarina Gyllenberg\, SGU\nKontaktperson för evenemanget: Pär Alapää\, ordförande i styrelsen för Region Norr
URL:https://www.renaremark.se/event/natverket-renare-mark-region-norr-bjuder-in-till-webbinarium-om-blaiken/
CATEGORIES:NRM Regionala,Region Norr
ATTACH;FMTTYPE=image/jpeg:https://www.renaremark.se/wp-content/uploads/2025/06/Dagbrott-Blaiken.jpg
END:VEVENT
END:VCALENDAR