BEGIN:VCALENDAR
VERSION:2.0
PRODID:-//Renare Mark - ECPv6.15.20//NONSGML v1.0//EN
CALSCALE:GREGORIAN
METHOD:PUBLISH
X-ORIGINAL-URL:https://www.renaremark.se
X-WR-CALDESC:Händelser för Renare Mark
REFRESH-INTERVAL;VALUE=DURATION:PT1H
X-Robots-Tag:noindex
X-PUBLISHED-TTL:PT1H
BEGIN:VTIMEZONE
TZID:Europe/Stockholm
BEGIN:DAYLIGHT
TZOFFSETFROM:+0100
TZOFFSETTO:+0200
TZNAME:CEST
DTSTART:20230326T010000
END:DAYLIGHT
BEGIN:STANDARD
TZOFFSETFROM:+0200
TZOFFSETTO:+0100
TZNAME:CET
DTSTART:20231029T010000
END:STANDARD
BEGIN:DAYLIGHT
TZOFFSETFROM:+0100
TZOFFSETTO:+0200
TZNAME:CEST
DTSTART:20240331T010000
END:DAYLIGHT
BEGIN:STANDARD
TZOFFSETFROM:+0200
TZOFFSETTO:+0100
TZNAME:CET
DTSTART:20241027T010000
END:STANDARD
BEGIN:DAYLIGHT
TZOFFSETFROM:+0100
TZOFFSETTO:+0200
TZNAME:CEST
DTSTART:20250330T010000
END:DAYLIGHT
BEGIN:STANDARD
TZOFFSETFROM:+0200
TZOFFSETTO:+0100
TZNAME:CET
DTSTART:20251026T010000
END:STANDARD
END:VTIMEZONE
BEGIN:VEVENT
DTSTART;TZID=Europe/Stockholm:20241203T160000
DTEND;TZID=Europe/Stockholm:20241203T183000
DTSTAMP:20260424T142011
CREATED:20241108T092041Z
LAST-MODIFIED:20241205T155548Z
UID:19767-1733241600-1733250600@www.renaremark.se
SUMMARY:Nätverksträff och seminarium Källområdessanering av klorerade lösningsmedel - Region Väst
DESCRIPTION:Välkommen till Renare Mark Region Västs nätverksträff och seminarium om Källområdessanering av klorerade lösningsmedel i kristalint berg och jord – erfarenheter från Kvarteret Renen. 3 december 2024\, kl. 16.00-18.30. \nDu kan delta fysiskt eller vara med via länk. Förutom nätverksträff kommer vi även att få lyssna på tre föredrag med en avslutande diskussion/frågestund samt att vi bjuder på fika! Mellan respektive pass finns det möjlighet att ställa korta frågor. Nätverksträffen inleds med mingel i 30 minuter\, därefter hålls seminariet som pågår i ca 1\,5 timme med efterföljande diskussion/frågestund. \nPlats: Advokatfirman Lindahl\, Södra Hamngatan 37-41\, Göteborg \nPresentationer: \n\n\n\nBakgrund till projektet\, föroreningssituationen\, vad har hänt? Huvudmannens roll – lärdomar från ett kommunperspektiv – Jenny Rydén\, Projektledare| Samhällsutvecklingskontoret\, Varberg\n\n\nLänsstyrelsens roll som bidragsförmedlare – samarbetet inom projektet – Malin Salberg\, Teamledare Förorenade områden| Länsstyrelsen Hallands län\n\n\n”Lärdomar från den termiska saneringen av klorerade lösningsmedel i kristallint berg\, Kv Renen Varberg. Vad är nyckelfaktorerna för en lyckad termisk sanering\, vad finns det för risker och hur har utfallet blivit?” – Fredric Engelke\, Miljökonsult | Relement Miljö Väst AB\n\n\n\n  \n  \n  \n 
URL:https://www.renaremark.se/event/region-vast-bjuder-in-till-natverkstraff-och-seminarium-om-kallomradessanering-av-klorerade-losningsmedel-i-jord-och-kristallint-berg-erfarenheter-fran-kv-renen-varberg/
CATEGORIES:NRM Regionala,Region Väst
ATTACH;FMTTYPE=image/png:https://www.renaremark.se/wp-content/uploads/2024/11/Bild-region-vast-uppdrag-december.png
END:VEVENT
BEGIN:VEVENT
DTSTART;TZID=Europe/Stockholm:20241204T130000
DTEND;TZID=Europe/Stockholm:20241204T160000
DTSTAMP:20260424T142011
CREATED:20241108T092259Z
LAST-MODIFIED:20241108T092931Z
UID:19758-1733317200-1733328000@www.renaremark.se
SUMMARY:Massor med möjligheter - fysiskt seminarium i Norrköping
DESCRIPTION:Massor med möjligheter – Renare Mark Region Öst bjuder in\nRenare mark öst bjuder in till seminarium ”Massor med Möjligheter” i samarbete med Norrköpings kommun. Föreläsningen anordnas med en fysisk träff i Norrköping den 4 december. I samband med föreläsningen ges möjlighet till fika och mingel. \nVarmt välkommen! \n  \nSista anmälningsdag är 27 november. \nAnmälan görs via Norrköpings kommun. \nProgrampunkter:\n\nMartin Heljedal\, Norrköpings kommun\nSara Söderlund\, AFRY\nFrida Jivemark\, Norrköpings kommun\nFika med glögg och pepparkakor\nJohan Hedsköld och Anna Berg\, PEAB\nTherese Ekwall\, Svensk Masshantering AB\nErik Gustafsson\, Ragn Sells\nPaneldiskussion samt diskussion med publiken\n\n  \nProjektorganisation:\nTherese Hjälm\, ordförande region Öst\nMarin Heljedal\nTherese Ekwall\nSara Söderlund\nPer Frändegård
URL:https://www.renaremark.se/event/massor-med-moligheter-fysiskt-seminarium-i-norrkoping/
LOCATION:Inre Foajen\, Kommunhuset Rosen\, Norrköping
CATEGORIES:NRM Regionala,Region Öst
ATTACH;FMTTYPE=image/jpeg:https://www.renaremark.se/wp-content/uploads/2024/11/a10dc1ce-d734-42fe-835e-2533d751c802.jpg
END:VEVENT
END:VCALENDAR