BEGIN:VCALENDAR
VERSION:2.0
PRODID:-//Renare Mark - ECPv6.15.20//NONSGML v1.0//EN
CALSCALE:GREGORIAN
METHOD:PUBLISH
X-ORIGINAL-URL:https://www.renaremark.se
X-WR-CALDESC:Händelser för Renare Mark
REFRESH-INTERVAL;VALUE=DURATION:PT1H
X-Robots-Tag:noindex
X-PUBLISHED-TTL:PT1H
BEGIN:VTIMEZONE
TZID:Europe/Stockholm
BEGIN:DAYLIGHT
TZOFFSETFROM:+0100
TZOFFSETTO:+0200
TZNAME:CEST
DTSTART:20230326T010000
END:DAYLIGHT
BEGIN:STANDARD
TZOFFSETFROM:+0200
TZOFFSETTO:+0100
TZNAME:CET
DTSTART:20231029T010000
END:STANDARD
BEGIN:DAYLIGHT
TZOFFSETFROM:+0100
TZOFFSETTO:+0200
TZNAME:CEST
DTSTART:20240331T010000
END:DAYLIGHT
BEGIN:STANDARD
TZOFFSETFROM:+0200
TZOFFSETTO:+0100
TZNAME:CET
DTSTART:20241027T010000
END:STANDARD
BEGIN:DAYLIGHT
TZOFFSETFROM:+0100
TZOFFSETTO:+0200
TZNAME:CEST
DTSTART:20250330T010000
END:DAYLIGHT
BEGIN:STANDARD
TZOFFSETFROM:+0200
TZOFFSETTO:+0100
TZNAME:CET
DTSTART:20251026T010000
END:STANDARD
END:VTIMEZONE
BEGIN:VEVENT
DTSTART;TZID=Europe/Stockholm:20241125T140000
DTEND;TZID=Europe/Stockholm:20241125T160000
DTSTAMP:20260424T154937
CREATED:20240923T211449Z
LAST-MODIFIED:20240923T212136Z
UID:19527-1732543200-1732550400@www.renaremark.se
SUMMARY:Seminarium om miljöjuridik - Renare Mark Mälardalen
DESCRIPTION:Välkommen till ett inspirerande seminarium med Tove Skärblom från Setterwalls advokatbyrå. Tove kommer att ge en djupgående introduktion till miljöjuridik enligt tionde kapitlet i Miljöbalken. Seminariet kommer att täcka grundprinciperna och gå igenom relevanta rättsfall från de senaste åren. Under seminariet bjuder vi på fika. Missa inte den efterföljande Miljökampen\, ett mycket uppskattat evenemang! \nSeminariumet hålls i miljökontorets lokaler i Västerås. \nAnmälan görs via denna länk. Varmt välkomna! \nÖnskar Styrelsen i Nätverk Renare Mark region Mälardalen
URL:https://www.renaremark.se/event/seminarium-om-miljojuridik-renare-mark-malardalen/
CATEGORIES:Region Mälardalen
ATTACH;FMTTYPE=image/jpeg:https://www.renaremark.se/wp-content/uploads/2024/09/processed-CFA2313E-BA65-43AB-B604-D74FD2E4B423.jpeg
END:VEVENT
BEGIN:VEVENT
DTSTART;TZID=Europe/Stockholm:20241125T170000
DTEND;TZID=Europe/Stockholm:20241125T190000
DTSTAMP:20260424T154937
CREATED:20240923T211806Z
LAST-MODIFIED:20240923T211806Z
UID:19530-1732554000-1732561200@www.renaremark.se
SUMMARY:Miljökampen 2024 - Renare Mark Mälardalen
DESCRIPTION:Efter eftermiddagens seminarium på miljökontoret följer Miljökampen 2024 – en femkamp där du får chansen att tävla med och mot kollegor i branschen om den prestigefyllda vandringspokalen\, som är tillverkad av återvunnetglas. Vi bjuder på dryck och enklare förtäring. \nMiljökampen startar 17:00 på WESCONs lokaler i Västerås. \nAnmälan görs via denna länk. Varmt välkomna! \nÖnskar Styrelsen i Nätverk Renare Mark region Mälardalen
URL:https://www.renaremark.se/event/miljokampen-2024-renare-mark-malardalen/
CATEGORIES:Region Mälardalen
ATTACH;FMTTYPE=image/png:https://www.renaremark.se/wp-content/uploads/2022/10/miljokampen2022.png
END:VEVENT
END:VCALENDAR