BEGIN:VCALENDAR
VERSION:2.0
PRODID:-//Renare Mark - ECPv6.15.20//NONSGML v1.0//EN
CALSCALE:GREGORIAN
METHOD:PUBLISH
X-WR-CALNAME:Renare Mark
X-ORIGINAL-URL:https://www.renaremark.se
X-WR-CALDESC:Händelser för Renare Mark
REFRESH-INTERVAL;VALUE=DURATION:PT1H
X-Robots-Tag:noindex
X-PUBLISHED-TTL:PT1H
BEGIN:VTIMEZONE
TZID:Europe/Stockholm
BEGIN:DAYLIGHT
TZOFFSETFROM:+0100
TZOFFSETTO:+0200
TZNAME:CEST
DTSTART:20230326T010000
END:DAYLIGHT
BEGIN:STANDARD
TZOFFSETFROM:+0200
TZOFFSETTO:+0100
TZNAME:CET
DTSTART:20231029T010000
END:STANDARD
BEGIN:DAYLIGHT
TZOFFSETFROM:+0100
TZOFFSETTO:+0200
TZNAME:CEST
DTSTART:20240331T010000
END:DAYLIGHT
BEGIN:STANDARD
TZOFFSETFROM:+0200
TZOFFSETTO:+0100
TZNAME:CET
DTSTART:20241027T010000
END:STANDARD
BEGIN:DAYLIGHT
TZOFFSETFROM:+0100
TZOFFSETTO:+0200
TZNAME:CEST
DTSTART:20250330T010000
END:DAYLIGHT
BEGIN:STANDARD
TZOFFSETFROM:+0200
TZOFFSETTO:+0100
TZNAME:CET
DTSTART:20251026T010000
END:STANDARD
END:VTIMEZONE
BEGIN:VEVENT
DTSTART;TZID=Europe/Stockholm:20240906T100000
DTEND;TZID=Europe/Stockholm:20240906T114500
DTSTAMP:20260424T192125
CREATED:20240822T121932Z
LAST-MODIFIED:20240822T141911Z
UID:19376-1725616800-1725623100@www.renaremark.se
SUMMARY:Sökhundar för detektion av markföroreningar i Luleå
DESCRIPTION:Nätverket Renare Mark region Norr anordnar ett kortare fysiskt seminarium där du får veta mer om hur man kan använda sökhundar för att leta efter föroreningar. \nAnmälan hittar du här. Sista dag för anmälan är den 2 september.  \nProgram\nPresentation av Tomas Gustafsson om hur träningen av en hund sker och hur arbetet med sökning går till. \nPresentation av Julia Inkapööl och Lena Torin om hur de använt sig av föroreningshundar för att identifiera inträngningspunkter för klorerade lösningsmedel i flerbostadshus och verifiering av provtagningen. \nDemonstration med Holly för att visa hur man tränar upp en hund för detta. \nNär och var?\nDatum: 6 september 2024\nPlats: Länsstyrelsen Norrbotten\, Luleå\nTid: kl. 10.00-11.45 \nVad kommer att hända?\nTomas Gustafsson och Holly kommer att demonstrera hur det går till att både träna upp en hund för detta ändamål och att sedan jobba med det. Förhoppningen är att hundarna ska kunna vara ett bra verktyg inför sanering av förorenade platser\, och kunna göra att det går snabbare och blir billigare i slutändan. \nJulia Inkapööl och Lena Torin kommer berätta hur de använt sig av föroreningshundar i ett projekt i Solna för att identifiera inträngningspunkter för klorerade lösningsmedel i flerbostadshus som anlagts invid en tidigare kemtvätt. De kommer också att berätta om hur hundarnas resultat verifierades\ngenom dynamisk provtagning av luft med fält-GC genom VaporSafeTM. \nVissa av presentationerna kommer att ske digitalt (på plats i Luleå). \nVilka är våra föresläsare?\nTomas jobbar som forskare och kemist och har ett stort intresse för hundar\, vilket har förenats i att träna upp springer spanieln Holly att leta efter miljögifterna tri- och tetrakloreten. \nJulia är civilingenjör inom miljö- och vattenteknik som sedan sju år jobbat som miljökonsult inom förorenade områden på WSP. Julia arbetar bl.a. mycket med undersökning och utvärdering av klorerade lösningsmedel och deltar aktivt i teknikutveckling. \nLena är civilingenjör som sedan drygt 25 år jobbar som miljökonsult med framför allt områden förorenade av klorerade lösningsmedel och som nationell expert avseende ånginträngning av flyktiga ämnen in till byggnader. Lena arbetar på WSP sedan 5 år som teknisk specialist med teknikutveckling och håller regelbundet föreläsningar och presentationer i olika forum. \nVarmt välkommen\nStyrelsen i Nätverket Renare Mark region Norr
URL:https://www.renaremark.se/event/sokhundar-for-detektion-av-markfororeningar-i-lulea/
LOCATION:Länsstyrelsen Norrbotten\, Stationsgatan 5\, Luleå\, 97238
CATEGORIES:Region Norr
ATTACH;FMTTYPE=image/png:https://www.renaremark.se/wp-content/uploads/2024/08/Skarmavbild-2024-08-22-kl.-15.22.36.png
END:VEVENT
BEGIN:VEVENT
DTSTART;TZID=Europe/Stockholm:20240917T143000
DTEND;TZID=Europe/Stockholm:20240917T160000
DTSTAMP:20260424T192125
CREATED:20240829T100919Z
LAST-MODIFIED:20240905T145050Z
UID:19423-1726583400-1726588800@www.renaremark.se
SUMMARY:Studiebesök Sortera Norrköping
DESCRIPTION:Renare Mark Öst bjuder in till studiebesök på Sorteras Materials anläggning i Norrköping\nVi får titta på deras anläggning\, diskutera hantering och provtagning av massor med inriktning på PFAS. \nI samband med studiebesöket ges möjlighet till fika och mingel. \nDatum: 2024-09-17\nPlats: Sorteras anläggning i Norrköping (Sortera Materials)\nTid: 14.30-16.00 \nVarmt välkommen med din anmälan!
URL:https://www.renaremark.se/event/studiebesok-sortera-norrkoping/
CATEGORIES:Region Öst
ATTACH;FMTTYPE=image/png:https://www.renaremark.se/wp-content/uploads/2024/08/garbage-157110_1280.png
END:VEVENT
END:VCALENDAR