BEGIN:VCALENDAR
VERSION:2.0
PRODID:-//Renare Mark - ECPv6.15.20//NONSGML v1.0//EN
CALSCALE:GREGORIAN
METHOD:PUBLISH
X-WR-CALNAME:Renare Mark
X-ORIGINAL-URL:https://www.renaremark.se
X-WR-CALDESC:Händelser för Renare Mark
REFRESH-INTERVAL;VALUE=DURATION:PT1H
X-Robots-Tag:noindex
X-PUBLISHED-TTL:PT1H
BEGIN:VTIMEZONE
TZID:Europe/Stockholm
BEGIN:DAYLIGHT
TZOFFSETFROM:+0100
TZOFFSETTO:+0200
TZNAME:CEST
DTSTART:20220327T010000
END:DAYLIGHT
BEGIN:STANDARD
TZOFFSETFROM:+0200
TZOFFSETTO:+0100
TZNAME:CET
DTSTART:20221030T010000
END:STANDARD
BEGIN:DAYLIGHT
TZOFFSETFROM:+0100
TZOFFSETTO:+0200
TZNAME:CEST
DTSTART:20230326T010000
END:DAYLIGHT
BEGIN:STANDARD
TZOFFSETFROM:+0200
TZOFFSETTO:+0100
TZNAME:CET
DTSTART:20231029T010000
END:STANDARD
BEGIN:DAYLIGHT
TZOFFSETFROM:+0100
TZOFFSETTO:+0200
TZNAME:CEST
DTSTART:20240331T010000
END:DAYLIGHT
BEGIN:STANDARD
TZOFFSETFROM:+0200
TZOFFSETTO:+0100
TZNAME:CET
DTSTART:20241027T010000
END:STANDARD
END:VTIMEZONE
BEGIN:VEVENT
DTSTART;TZID=Europe/Stockholm:20230608T124500
DTEND;TZID=Europe/Stockholm:20230608T141500
DTSTAMP:20260425T193146
CREATED:20230427T123939Z
LAST-MODIFIED:20230602T145344Z
UID:17908-1686228300-1686233700@www.renaremark.se
SUMMARY:Region nord - webbinarium om den efterbehandlade Långdalsgruvan nära Boliden
DESCRIPTION:Region Nord bjuder in till digitalt föredrag om Långdalsgruvan (studiebesök inställt) \nFöredrag/webinarium om projekt Långdalsgruvan inklusive frågestund. Kort\ninformation om Bolidens efterbehandlingsarbete i övrigt och arbetet med\nkonceptet ”hållbarhetsparker”. Föredraget startar 12.45 och pågår till 14.15. \nAnmälan hittar du här. \n  \nOm evenemanget\nSyftet med arrangemanget är att berätta om genomförda efterbehandlingsåtgärderna som Boliden utfört vid Långdalsgruvan. \nBakgrund\nFrån gruvans start 1967 bröts malmen under jord\, sedermera upptäcktes att malmkroppen bredde ut sig under älven\, vilket medförde att en invallning mot älven behövde byggas för att möjliggöra fortsatt gruvbrytning. Mellan 1991-1999 bröts malmen i ett dagbrott ute i Skellefteälven. Under efterbehandlingsarbetena 2021 har invallningen rivits och älven har återfått sitt ursprungliga lopp. Andra åtgärderför att förbättra vattenmiljön i Skellefteälven har också genomförts. \nDetta är ett unikt projekt och har lett till utmaningar vad gäller hantering av miljörisker\, men också arbetsmiljörisker. Bland annat har man kalkat vattnet i damminvallningen och omsatt det med vattnet i älven. För att förhindra grumling i älven har siltgardiner använts. Under projektets gång har kontrollprovtagningar utförts löpande. Förutom utrivning av dammvallen har omfattande saneringsåtgärder också gjorts på land på det gamla gruvområdet och totalt har en yta på omkring 20 Ha sanerats och återställts under 2022. \nBoliden planerar att utföra värdeskapande åtgärder i Skellefteälven genom anläggning av lekbotten för harr samt ett habitat för gäddor\, utöver åtgärderna i vattenmiljön kommer arbetet med att främja biologisk mångfald att fortskrida med sådder\, skogsvård och modellering av\nområdet. Gruvområdet i Långdal planeras att ingå i Bolidens nya koncept ”Hållbarhetsparker” där ansvar\, innovation\, tillgänglighet och lekfullhet vägs samman. Platsen ska både visa på det arbete Boliden gör för ekologi och samhälle och återigen välkomna människor för att\nnyttja området. Evenemanget planeras i nära samarbete med medverkande aktörer i projektet. Länk till projektet på Bolidens hemsida.
URL:https://www.renaremark.se/event/region-nord-studiebesok-vid-den-efterbehandlade-langdalsgruvan-nara-boliden/
CATEGORIES:Region Norr
ATTACH;FMTTYPE=image/jpeg:https://www.renaremark.se/wp-content/uploads/2023/04/region-norr-studiebesok-boliden.jpg
END:VEVENT
BEGIN:VEVENT
DTSTART;TZID=Europe/Stockholm:20230621T133000
DTEND;TZID=Europe/Stockholm:20230621T153000
DTSTAMP:20260425T193146
CREATED:20230509T092909Z
LAST-MODIFIED:20230509T144556Z
UID:17959-1687354200-1687361400@www.renaremark.se
SUMMARY:Region Öst bjuder in till studiebesök och sommarkamp
DESCRIPTION:Kom och nätverka\, gå på studiebesök och ha kul tillsammans. \nVi samlas utför kommunhusets entré i Finspång. Vi kommer att besöka en fastighet där det pågår in situ-sanering av klorerade föroreningar. Därefter kommer vi ha en sommarkamp i form av tipspromenad och fika tillsammans. \nVarmt välkomna önskar styrelsen i Region Öst! \nLäs mer och anmäl er här.
URL:https://www.renaremark.se/event/region-ost-bjuder-in-till-studiebesok-och-sommarkamp/
CATEGORIES:Region Öst
ATTACH;FMTTYPE=image/jpeg:https://www.renaremark.se/wp-content/uploads/2023/05/Ost-studiebes2023.jpg
END:VEVENT
END:VCALENDAR