BEGIN:VCALENDAR
VERSION:2.0
PRODID:-//Renare Mark - ECPv6.15.20//NONSGML v1.0//EN
CALSCALE:GREGORIAN
METHOD:PUBLISH
X-WR-CALNAME:Renare Mark
X-ORIGINAL-URL:https://www.renaremark.se
X-WR-CALDESC:Händelser för Renare Mark
REFRESH-INTERVAL;VALUE=DURATION:PT1H
X-Robots-Tag:noindex
X-PUBLISHED-TTL:PT1H
BEGIN:VTIMEZONE
TZID:Europe/Stockholm
BEGIN:DAYLIGHT
TZOFFSETFROM:+0100
TZOFFSETTO:+0200
TZNAME:CEST
DTSTART:20220327T010000
END:DAYLIGHT
BEGIN:STANDARD
TZOFFSETFROM:+0200
TZOFFSETTO:+0100
TZNAME:CET
DTSTART:20221030T010000
END:STANDARD
BEGIN:DAYLIGHT
TZOFFSETFROM:+0100
TZOFFSETTO:+0200
TZNAME:CEST
DTSTART:20230326T010000
END:DAYLIGHT
BEGIN:STANDARD
TZOFFSETFROM:+0200
TZOFFSETTO:+0100
TZNAME:CET
DTSTART:20231029T010000
END:STANDARD
BEGIN:DAYLIGHT
TZOFFSETFROM:+0100
TZOFFSETTO:+0200
TZNAME:CEST
DTSTART:20240331T010000
END:DAYLIGHT
BEGIN:STANDARD
TZOFFSETFROM:+0200
TZOFFSETTO:+0100
TZNAME:CET
DTSTART:20241027T010000
END:STANDARD
END:VTIMEZONE
BEGIN:VEVENT
DTSTART;TZID=Europe/Stockholm:20230426T133000
DTEND;TZID=Europe/Stockholm:20230426T160000
DTSTAMP:20260425T230203
CREATED:20230316T063309Z
LAST-MODIFIED:20230602T093632Z
UID:17742-1682515800-1682524800@www.renaremark.se
SUMMARY:Region Mälardalen bjuder in till seminarium om PFAS
DESCRIPTION:Seminariet har utgångspunkt i SGF:s uppdatering av information om PFAS på Undersökningsportalen och Åtgärdsportalen. \nRegeringen har gett Naturvårdsverket\, SGU och SGI i uppdrag att ta fram ny och publicera ny kunskap  om PFAS och som en del av projektet har SGF har fått finansiering för att uppdatera sina portaler. Uppdateringen blir klar i april 2023 och i samband med detta  hålls ett seminarium med talare som har medverkat i uppdateringen. \nPresentationer:\nLars Rosenqvist\, Statsgeolog på SGU\, kommer att berätta om ändringar i lagstiftning och PFAS i grundvatten.\nKatrin Holmström\, konsult på NIRAS som har doktorerat på PFAS i marin miljö\, kommer att berätta om de åtgärdsmetoder som finns tillgängliga för PFAS.\nLinda Karlsson\, konsult på NIRAS med över 16 års erfarenhet av förorenade områden\, kommer att berätta om hur undersökningar av PFAS-förorenade områden bör genomföras.\nPatrick Van Hees\, Eurofins och docent i analytisk kemi\, kommer att berätta om utvecklingen av analysmetoder och vad man bör tänka på för att få bra data om PFAS. \nSvar på frågor finns att ladda ner här. \nPlats:\nTekniska Nämndhuset Fleminggatan 4\, Stockholm. \nDet finns även möjlighet att delta digitalt via teams. \n 
URL:https://www.renaremark.se/event/region-malardalen-bjuder-in-till-seminarium-om-pfas/
CATEGORIES:Region Mälardalen
ATTACH;FMTTYPE=image/jpeg:https://www.renaremark.se/wp-content/uploads/2023/03/firefighter-g16d709eaa_1920.jpg
END:VEVENT
END:VCALENDAR