BEGIN:VCALENDAR
VERSION:2.0
PRODID:-//Renare Mark - ECPv6.15.20//NONSGML v1.0//EN
CALSCALE:GREGORIAN
METHOD:PUBLISH
X-WR-CALNAME:Renare Mark
X-ORIGINAL-URL:https://www.renaremark.se
X-WR-CALDESC:Händelser för Renare Mark
REFRESH-INTERVAL;VALUE=DURATION:PT1H
X-Robots-Tag:noindex
X-PUBLISHED-TTL:PT1H
BEGIN:VTIMEZONE
TZID:Europe/Stockholm
BEGIN:DAYLIGHT
TZOFFSETFROM:+0100
TZOFFSETTO:+0200
TZNAME:CEST
DTSTART:20210328T010000
END:DAYLIGHT
BEGIN:STANDARD
TZOFFSETFROM:+0200
TZOFFSETTO:+0100
TZNAME:CET
DTSTART:20211031T010000
END:STANDARD
BEGIN:DAYLIGHT
TZOFFSETFROM:+0100
TZOFFSETTO:+0200
TZNAME:CEST
DTSTART:20220327T010000
END:DAYLIGHT
BEGIN:STANDARD
TZOFFSETFROM:+0200
TZOFFSETTO:+0100
TZNAME:CET
DTSTART:20221030T010000
END:STANDARD
BEGIN:DAYLIGHT
TZOFFSETFROM:+0100
TZOFFSETTO:+0200
TZNAME:CEST
DTSTART:20230326T010000
END:DAYLIGHT
BEGIN:STANDARD
TZOFFSETFROM:+0200
TZOFFSETTO:+0100
TZNAME:CET
DTSTART:20231029T010000
END:STANDARD
END:VTIMEZONE
BEGIN:VEVENT
DTSTART;TZID=Europe/Stockholm:20221206T170000
DTEND;TZID=Europe/Stockholm:20221206T220000
DTSTAMP:20260426T052031
CREATED:20221027T124053Z
LAST-MODIFIED:20221111T123156Z
UID:17297-1670346000-1670364000@www.renaremark.se
SUMMARY:Region Mälardalen kallar till Miljökampen!
DESCRIPTION:Renare Mark Mälardalen har som tradition att varje år ordna miljökamp. Här ges tillfälle att tävla med och mot kollegor i branschen i en femkamp där vinsten är den prestigefyllda vandringspokalen som är tillverkad av återvunnet glas. Miljökampen går av stapeln den 6 december mellan klockan 17-22 i Tekniska nämndhuset i Stockholm. \nAnmälan görs via denna länk\, senast 2 december!
URL:https://www.renaremark.se/event/region-malardalen-kallar-till-miljokampen/
CATEGORIES:Region Mälardalen
ATTACH;FMTTYPE=image/png:https://www.renaremark.se/wp-content/uploads/2022/10/miljokampen2022.png
END:VEVENT
END:VCALENDAR