BEGIN:VCALENDAR
VERSION:2.0
PRODID:-//Renare Mark - ECPv6.15.20//NONSGML v1.0//EN
CALSCALE:GREGORIAN
METHOD:PUBLISH
X-ORIGINAL-URL:https://www.renaremark.se
X-WR-CALDESC:Händelser för Renare Mark
REFRESH-INTERVAL;VALUE=DURATION:PT1H
X-Robots-Tag:noindex
X-PUBLISHED-TTL:PT1H
BEGIN:VTIMEZONE
TZID:Europe/Stockholm
BEGIN:DAYLIGHT
TZOFFSETFROM:+0100
TZOFFSETTO:+0200
TZNAME:CEST
DTSTART:20230326T010000
END:DAYLIGHT
BEGIN:STANDARD
TZOFFSETFROM:+0200
TZOFFSETTO:+0100
TZNAME:CET
DTSTART:20231029T010000
END:STANDARD
BEGIN:DAYLIGHT
TZOFFSETFROM:+0100
TZOFFSETTO:+0200
TZNAME:CEST
DTSTART:20240331T010000
END:DAYLIGHT
BEGIN:STANDARD
TZOFFSETFROM:+0200
TZOFFSETTO:+0100
TZNAME:CET
DTSTART:20241027T010000
END:STANDARD
BEGIN:DAYLIGHT
TZOFFSETFROM:+0100
TZOFFSETTO:+0200
TZNAME:CEST
DTSTART:20250330T010000
END:DAYLIGHT
BEGIN:STANDARD
TZOFFSETFROM:+0200
TZOFFSETTO:+0100
TZNAME:CET
DTSTART:20251026T010000
END:STANDARD
END:VTIMEZONE
BEGIN:VEVENT
DTSTART;VALUE=DATE:20241128
DTEND;VALUE=DATE:20241129
DTSTAMP:20260422T015135
CREATED:20240604T131033Z
LAST-MODIFIED:20241129T112046Z
UID:19303-1732752000-1732838399@www.renaremark.se
SUMMARY:Innovativa åtgärder\, från idé till verklighet - Renare Mark
DESCRIPTION:Vi fokuserar på hur man kan öka takten med innovativa åtgärder. \nFå inspiration och tips av de som deltagit i projekt med olika typer av åtgärdsmetoder. Vilka utmaningar och erfarenheter har de fått och vad kan du som deltagare ta med dig till dina egna projekt? Ett evenemang med inspirerande föredrag från konsulter\, myndigheter och verksamhetsutövare.  \nVi inleder med podcast-inspirerat upplägg med en mix av samtal och föreläsningar. Efter lunch kan du delta i ett studiebesök. Åter i konferenslokalen breddar vi perspektivet och lyfter blicken mot statlig finansiering och riskvärdering. Vi avslutar dagen med diskussioner och panelsamtal där vi bland annat pratar hur vi kan bidra till att fler innovativa åtgärder genomförs.  \nDagen anordnas som hybridseminarium där det finns möjlighet att delta och lyssna på delar av dagen digitalt. Mingel vid fika och lunch samt studiebesök för deltagare på plats. \nBakgrund\nVerksamhet i ett fd bussgarage har orsakat en föroreningsbild bestående av oljeförorening ner på stora djup. Projektet har haft flera stora utmaningar såsom tidsbegränsning\, omgivande grundvattenpumpning\, fri fas och mycket hård mark. Arbetet har bedrivits i samverkan mellan de olika projektdeltagarna för att säkerställa den bästa lösningen i tid och rum\, vilket innebär totalt åtta olika saneringsmetoder varav de flesta in situ. Som exempel kan nämnas kemisk oxidation med och utan stabilisering\, kolloidalt aktivt kol\, biologisk nedbrytning och multifasextraktion med vattenrening. \nProgram \nPresentationer \nProjekterfarenheter – Förmiddag gemensam presentation– Thomas Sandgren – Jernhusen\, Ida Torp – Liljemarks Consulting\, Anna Bryllert – Kristianstad kommun\, Helena Nord – Sheeba Environmental Engineering. \nStatliga perspektivet och generellt stöd -Eftermiddag gemensam presentation – Pär Nilsson – Länsstyrelsen Jönköping\, Maria Fransson och Erik Bergstedt – SGU\, Matilda Johansson – SGI \nVar?\nSeminariet äger rum i Kristianstad (Quality Hotel Grand Kristianstad\, V. Storgatan 15)\nFysiskt deltagande har möjlighet för fika från 09:00.\nHålltiderna är start klockan 09:30-16.10\nHur du kan delta digitalt framgår av programmet. \nModeratorer\nDagens moderatorer är Peter Harms-Ringdahl\, Christina Rydell Ahlström och Klas Köhler.\nDet kommer att finnas tid att ställa frågor till föreläsarna under dagen. Vid detta seminariet prioriteras deltagare på plats men även digitala medverkande har\, om tid finns\, möjlighet att ställa frågor. \n_____________ \nArrangörsgrupp: \nHelena Nord\, Sheeba \nKlas Köhler\, Länsstyrelserna \nChristina Rydell\, Morris Law \nPeter Harms-Ringdahl\, EnviFix \nTherese Steinholtz\, Empirikon Konsult (Renare Marks koordinator) \nMadeléne Lundén\, Structor Miljö Öst AB (Renare Marks koordinator från 2025)
URL:https://www.renaremark.se/event/fa-till-stand-innovativa-atgarder/
CATEGORIES:NRM nationella evenemang
ATTACH;FMTTYPE=image/jpeg:https://www.renaremark.se/wp-content/uploads/2024/09/kristianstad-insitu-scaled.jpg
END:VEVENT
END:VCALENDAR