BEGIN:VCALENDAR
VERSION:2.0
PRODID:-//Renare Mark - ECPv6.15.20//NONSGML v1.0//EN
CALSCALE:GREGORIAN
METHOD:PUBLISH
X-WR-CALNAME:Renare Mark
X-ORIGINAL-URL:https://www.renaremark.se
X-WR-CALDESC:Händelser för Renare Mark
REFRESH-INTERVAL;VALUE=DURATION:PT1H
X-Robots-Tag:noindex
X-PUBLISHED-TTL:PT1H
BEGIN:VTIMEZONE
TZID:Europe/Stockholm
BEGIN:DAYLIGHT
TZOFFSETFROM:+0100
TZOFFSETTO:+0200
TZNAME:CEST
DTSTART:20230326T010000
END:DAYLIGHT
BEGIN:STANDARD
TZOFFSETFROM:+0200
TZOFFSETTO:+0100
TZNAME:CET
DTSTART:20231029T010000
END:STANDARD
BEGIN:DAYLIGHT
TZOFFSETFROM:+0100
TZOFFSETTO:+0200
TZNAME:CEST
DTSTART:20240331T010000
END:DAYLIGHT
BEGIN:STANDARD
TZOFFSETFROM:+0200
TZOFFSETTO:+0100
TZNAME:CET
DTSTART:20241027T010000
END:STANDARD
BEGIN:DAYLIGHT
TZOFFSETFROM:+0100
TZOFFSETTO:+0200
TZNAME:CEST
DTSTART:20250330T010000
END:DAYLIGHT
BEGIN:STANDARD
TZOFFSETFROM:+0200
TZOFFSETTO:+0100
TZNAME:CET
DTSTART:20251026T010000
END:STANDARD
END:VTIMEZONE
BEGIN:VEVENT
DTSTART;VALUE=DATE:20240911
DTEND;VALUE=DATE:20240914
DTSTAMP:20260422T044459
CREATED:20231113T152557Z
LAST-MODIFIED:20240617T072100Z
UID:18459-1726012800-1726271999@www.renaremark.se
SUMMARY:NORDROCS 2024 - Renare Mark
DESCRIPTION:NORDROCS är en konferens som anordnas som ett internationellt samarbete mellan Renare Mark och motsvarande nätverk i våra grannländer (Jord og Grunnvann – Danmark\, MUTKU – Finland\, Miljöringen – Norge och i år har vi även med en representant från Isländska Naturvårdsverket). Konferensen cirkulerar mellan de olika värdländerna\, senast (2022) var vi i Oslo och nu är det Sveriges tur. \nFörutom deltagare från norden brukar vi även ha deltagare och inbjudna talare från resten av Europa\, USA och Kanada. Bland deltagarna återfinns representanter från myndigheter\, konsulter\, entreprenörer\, laboratorier\, jurister\, ja i stort sett hela branschen. Tänk Renare Marks Vårmöte men med nyheter och projekt från hela Europa istället. Detta ger NORDROCS 2024 unika möjligheter till att lära sig hur man arbetar i andra länder och knyta kontakter utomlands utan att behöva åka utomlands. \nDen 10 sepember erbjuds kortkurser och mingelkväll. Den 11-12 september genomförs själva konferensen och den 13 september erbjuds studiebesök. Läs mer på NORDROCS hemsida!
URL:https://www.renaremark.se/event/nordrocs-2024/
CATEGORIES:NRM nationella evenemang
ATTACH;FMTTYPE=image/jpeg:https://www.renaremark.se/wp-content/uploads/2023/06/Fyrisan_2018_Anders-Tukler-scaled.jpg
END:VEVENT
END:VCALENDAR