BEGIN:VCALENDAR
VERSION:2.0
PRODID:-//Renare Mark - ECPv6.15.20//NONSGML v1.0//EN
CALSCALE:GREGORIAN
METHOD:PUBLISH
X-WR-CALNAME:Renare Mark
X-ORIGINAL-URL:https://www.renaremark.se
X-WR-CALDESC:Händelser för Renare Mark
REFRESH-INTERVAL;VALUE=DURATION:PT1H
X-Robots-Tag:noindex
X-PUBLISHED-TTL:PT1H
BEGIN:VTIMEZONE
TZID:Europe/Stockholm
BEGIN:DAYLIGHT
TZOFFSETFROM:+0100
TZOFFSETTO:+0200
TZNAME:CEST
DTSTART:20230326T010000
END:DAYLIGHT
BEGIN:STANDARD
TZOFFSETFROM:+0200
TZOFFSETTO:+0100
TZNAME:CET
DTSTART:20231029T010000
END:STANDARD
BEGIN:DAYLIGHT
TZOFFSETFROM:+0100
TZOFFSETTO:+0200
TZNAME:CEST
DTSTART:20240331T010000
END:DAYLIGHT
BEGIN:STANDARD
TZOFFSETFROM:+0200
TZOFFSETTO:+0100
TZNAME:CET
DTSTART:20241027T010000
END:STANDARD
BEGIN:DAYLIGHT
TZOFFSETFROM:+0100
TZOFFSETTO:+0200
TZNAME:CEST
DTSTART:20250330T010000
END:DAYLIGHT
BEGIN:STANDARD
TZOFFSETFROM:+0200
TZOFFSETTO:+0100
TZNAME:CET
DTSTART:20251026T010000
END:STANDARD
END:VTIMEZONE
BEGIN:VEVENT
DTSTART;VALUE=DATE:20240507
DTEND;VALUE=DATE:20240508
DTSTAMP:20260424T124930
CREATED:20240130T161311Z
LAST-MODIFIED:20240521T133200Z
UID:18815-1715040000-1715126399@www.renaremark.se
SUMMARY:Nya tekniker och innovativa behandlingsmetoder
DESCRIPTION:Hybridseminariet där vi pratar om nya tekniker och innovativa behandlingsmetoder (inom FO). Du kan delta på plats i Norrköping eller via länk!  \nVi ses på Louis De Geer konsert & kongress eller online. Registrera dig här. \nSeminariets föreläsare kommer från bl.a. myndigheter\, universitet och företag som arbetar med olika behandlingstekniker/metoder. Föredragen kommer att på vara på svenska och engelska. Seminariet pågår mellan 9.30-15.30 och efter seminariet erbjuds du att delta vid ett studiebesök vid inre hamnen\, Norrköping. Studiebesöket pågår i ca 1 h.  \nPresentationer  \n\n\n\nEn spetsig teknik för TUFF(O)a sediment – från NASAs lab till Västerbottniska bottnar\, Stina Jansson\, Umeå Universitet\n\n\nInsyn i pågående forskningsprojekt kring åtgärdstekniker för PFAS-förorening i jord och/eller grundvatten inom SGI:s regeringsuppdrag\, Malin Montelius och Robert Earon\, SGI\n\n\nOzonbehandling för vatten och luft\, John Lindam\, Mellifiq\n\n\nLessons learned from 20+ years of High Resolution Remedial Design and In-Situ Remediation\, Gabriele Giorgio Ceriani\, Eiljskov\n\n\nHigh-Energy In-Situ Injection of a Modified Clay for Sequestration of PFAS\, Mike Mazzarese\, AST\n\n\nElektrokemisk oxidation för in situ-sanering av blandföroreningar\, Jurate Kumpiene. Luleå tekniska universitet\n\n\nFotokatalytisk nedbrytning av föroreningar i vatten och sediment\, Anna Norén\, Chalmers\n\n\n\n  \nProgrammet som PDF. \nVarmt välkomna önskar arrangörsgruppen\nCarolina Ernsson\, SGI\nJurate Kumpiene\, Luleå tekniska universitet\nMauritz Ejderhamn Roupé\, Granitor Miljöteknik AB\nTherese Steinholtz\, Empirikon Konsult och NRM koordinator
URL:https://www.renaremark.se/event/nya-tekniker-och-innovativa-behandlingsmetoder/
LOCATION:Louis De Geer konsert & kongress
CATEGORIES:NRM nationella evenemang
ATTACH;FMTTYPE=image/jpeg:https://www.renaremark.se/wp-content/uploads/2024/02/PHR-termisk-ECH1-scaled.jpg
END:VEVENT
END:VCALENDAR