BEGIN:VCALENDAR
VERSION:2.0
PRODID:-//Renare Mark - ECPv6.15.20//NONSGML v1.0//EN
CALSCALE:GREGORIAN
METHOD:PUBLISH
X-ORIGINAL-URL:https://www.renaremark.se
X-WR-CALDESC:Händelser för Renare Mark
REFRESH-INTERVAL;VALUE=DURATION:PT1H
X-Robots-Tag:noindex
X-PUBLISHED-TTL:PT1H
BEGIN:VTIMEZONE
TZID:Europe/Stockholm
BEGIN:DAYLIGHT
TZOFFSETFROM:+0100
TZOFFSETTO:+0200
TZNAME:CEST
DTSTART:20230326T010000
END:DAYLIGHT
BEGIN:STANDARD
TZOFFSETFROM:+0200
TZOFFSETTO:+0100
TZNAME:CET
DTSTART:20231029T010000
END:STANDARD
BEGIN:DAYLIGHT
TZOFFSETFROM:+0100
TZOFFSETTO:+0200
TZNAME:CEST
DTSTART:20240331T010000
END:DAYLIGHT
BEGIN:STANDARD
TZOFFSETFROM:+0200
TZOFFSETTO:+0100
TZNAME:CET
DTSTART:20241027T010000
END:STANDARD
BEGIN:DAYLIGHT
TZOFFSETFROM:+0100
TZOFFSETTO:+0200
TZNAME:CEST
DTSTART:20250330T010000
END:DAYLIGHT
BEGIN:STANDARD
TZOFFSETFROM:+0200
TZOFFSETTO:+0100
TZNAME:CET
DTSTART:20251026T010000
END:STANDARD
END:VTIMEZONE
BEGIN:VEVENT
DTSTART;VALUE=DATE:20240313
DTEND;VALUE=DATE:20240315
DTSTAMP:20260424T154906
CREATED:20230908T100338Z
LAST-MODIFIED:20240426T134024Z
UID:18229-1710288000-1710460799@www.renaremark.se
SUMMARY:Vårmötet 2024
DESCRIPTION:Vårmötet erbjuder något för alla\, både nya i branschen och de med många års erfarenhet! \nDen 13 – 14 mars gick  Vårmötet med temat ”Hinder och möjligheter inom förorenade områden” av stapeln. Vårmötet inleddes den 12 mars med ett studiebesök och sedan fortsatte konferensen i två dagar vid Karlstad Congress Culture Center. Det blev två härliga dagar fulla med spännande föredrag\, posters\, utställning och mingel. \nProgram \nPresentationer \nSession A\, inledningspass \nPresentation Naturarvet\, Lo Jarl\, Naturarvet\nNaturvårdsverket\, SGI\, SGU och Länsstyrelserna presenterar \n\n\n\nSession B\, Forskning \nEmerging contaminants: Examples from feasibility study to full scale implementation\, Rogier De Waele\, Greensoil Group\nKinetik och fördelningskoefficienter för PFAS mellan mark och vatten i akviferer som ska saneras genom pump and treat teknik – en del av LIFE SOuRCE\, Oscar Skirfors\, Sveriges Lantbruksuniversitet\nInvestigation of microbial degradation of PFAS at two contaminated sites in Sweden\, Nicola Messinger\, Department of Earth Sciences\, Uppsala University\, Sweden \nSession C\, Specialsatsningar \nNaturvårdsverkets arbete med samhällsekonomisk konsekvensanalys av generella riktvärden för PFAS\, Niclas Johansson och Kristina Widenberg\, Naturvårdsverket\nFörekomst av PFAS i mark och grundvatten i områden utan kända lokala föroreningskällor – undersökningar inom regeringssatsningen för PFAS\, Lars Rosenqvist och Maria Åkesson\, Sveriges geologiska undersökning\nBetydelsen av platskarakterisering inför behandling av PFAS-förorenat grundvatten.Lärdomar från ett regeringsuppdrag\, Del 1\, Robert Earon\, Statens geotekniska institut\nEuropas största pilotförsök med kolloidalt aktivt kol för att behandla en PFAS-plym.Erfarenheter från ett regeringsuppdrag del 2\, Helena Nord\, Sheeba Environmental Engineering och Johan Eldin\, Granitor Miljöteknik \nSession D\, Workshop konceptuella modeller \nInledande föredrag: Osäkerheter i konceptuella modeller\, Johanna Moreskog\, Ramboll Sweden AB\, Klas Köhler\, Länsstyrelserna\, Björn Johansson\, Naturvårdsverket \nSession E\, Huvudmannaskap i projekt med statlig finansiering \nVarför ska kommunen ta på sig ett huvudmannaskap? – Kommunens perspektiv utifrån rollerna som kommunledning och beställarombud för ett EBH-projekt\, Rolf Persson\, Oskarshamns kommun\nMalungs fd. garveri – möjligheter och utmaningar för en glesbygdskommun att arbeta med bidragsfinansierade objekt\, Gisela Åberg\, Malung-Sälens kommun \nSession F\, Inledningspass\nStatligt finansierade efterbehandlingsåtgärder – erfarenhetsåterföring i syfte att underlätta för framtida åtgärdsprojekt\, Isabelle Groth\, Naturvårdsverket\nKlorokoll 2030; Inspiration till tematiskt arbete – en väg framåt för att ”öka takten”\, Karin Eliaeson\, Sveriges Geologiska Undersökning\nPresentation från vinnaren av årets exjobb\, Treatment of polluted sediments through sediment washing and photoelectrocatalysis  – Masegongliu Kamei \nSession G\, Förorenade områden i praktiken \nBedömning av risker vid odling i DDT-förorenad jord\, Jonas Hedlund\, Wescon Miljökonsult AB\nEnergiborrning i berg vid misstanke om klorerade lösningsmedel\, Helena Branzén\, Statens Geotekniska Institut\nKvicksilverjakten i Vinterviken – en verklighetsbaserad saneringshistoria i Nobels fotspår\, Sandra Broms\, Kemakta Konsult AB \nSession H\, PFAS och masshantering \nPFAS i efterbehandlingen – Hur många skall man mäta? Patrick van Hees\, Eurofins Food & Feed; Örebro Universitet\nMasshantering och PFAS\, Ebba Sellén\, Sellén & Filipovic AB\nNaturvårdsverkets vägledning om masshantering och användning av massor för anläggningsändamål\, Kristina Widenberg och Mats Fröberg\, Naturvårdsverket \nSession I\, Workshop Upphandling \nErfarenheter från olika upphandlingsformer vid genomförande av åtgärdsprojekt – möjligheter och hinder ur beställarens perspektiv\, Annelie Liljemark och Jessica Åberg\, Liljemark Consulting\nMarkprojekt när förorenad mark inte är fokus – Louise Johanson\, Sweco \nSession J\, Förorenade områden i praktiken \nMiljöbesparingar i schaktsaneringsprojekt\, Johan Nordbäck\, Structor Norr AB\nOptimera placering av nya borrhål i berg? Undersökningar i befintliga borrhål samt geofysik\, kan det vara en väg framåt? Lars Davidsson och Bo Bergman\, WSP Sverige AB\nThe need for sustainable PFAS remediation; comparing the environmental impact in situ sequestration to pump and treat\, Jack Shore\, REGENESIS \nSession K\, Vatten och sediment \nInventering av förorenade sedimentområden – möjligheter och utmaningar\, Ingrid Tjensvoll och Jon Engström\, Naturvårdsverket och Magnus Lund\, Länsstyrelsen Skåne\nRiskbedömning av förorenade sediment – ny vägledning\, Ann-Sofie Wernersson\, Statens Geotekniska Institut\nUndersökning av ytvatten och sediment i vattendrag för att identifiera förorenade vattenområden och för att prioritera mellan förorenade landobjekt\, Jens Johannisson\, Structor Miljö Öst AB \nSession L fortsättning workshop\nInledande föredrag: Erfarenheter från utökad samverkan (partnering) vid in-situ saneringsprojekt\, Jonny Bergman\, Sheeba Environmental Engineering AB\,\nSamverkansupphandling i teori och tillämpning -Stefan Lundström\, WSP Sverige AB \nSession M Sal: Sola\nNya bedömningsgrunder för grundvatten\, Joel Häggqvist\, Sveriges Geologiska Undersökning\nMarkdirektivet – hur kan det påverka svenskt arbete? Björn Johansson\, Naturvårdsverket
URL:https://www.renaremark.se/event/varmote-2024-hinder-och-mojligheter-inom-fororenade-omraden/
CATEGORIES:NRM nationella evenemang
ATTACH;FMTTYPE=image/jpeg:https://www.renaremark.se/wp-content/uploads/2023/09/kccc_exterior-1720x573-1.jpg
END:VEVENT
BEGIN:VEVENT
DTSTART;TZID=Europe/Stockholm:20240313T164500
DTEND;TZID=Europe/Stockholm:20240313T174500
DTSTAMP:20260424T154906
CREATED:20240131T133003Z
LAST-MODIFIED:20240227T170343Z
UID:18833-1710348300-1710351900@www.renaremark.se
SUMMARY:Föreningsstämma 2024
DESCRIPTION:Välkomna till Nätverket Renare Marks föreningsstämma 2024!  \nStämman hålls i samband med Vårmötet den 13 mars.\nSal: Erik Gustaf Geijer \nDokument: \nDagordning\nVerksamhetsberättelse 2023\nRevisionsberättelse 2023\nÅrsredovisning 2023\nVerksamhetsplan 2024\nBudgetförslag 2024\nMotion A Fördelning av ekonomiska medel\nMotion A Bilaga 1\nMotion B Justering föreningsstadgar\nMotion B Bilaga 1
URL:https://www.renaremark.se/event/foreningsstamma-2024/
CATEGORIES:NRM nationella evenemang
ATTACH;FMTTYPE=image/jpeg:https://www.renaremark.se/wp-content/uploads/2024/01/RM_cmyk-e1709052485627.jpg
END:VEVENT
END:VCALENDAR