BEGIN:VCALENDAR
VERSION:2.0
PRODID:-//Renare Mark - ECPv6.15.20//NONSGML v1.0//EN
CALSCALE:GREGORIAN
METHOD:PUBLISH
X-ORIGINAL-URL:https://www.renaremark.se
X-WR-CALDESC:Händelser för Renare Mark
REFRESH-INTERVAL;VALUE=DURATION:PT1H
X-Robots-Tag:noindex
X-PUBLISHED-TTL:PT1H
BEGIN:VTIMEZONE
TZID:Europe/Stockholm
BEGIN:DAYLIGHT
TZOFFSETFROM:+0100
TZOFFSETTO:+0200
TZNAME:CEST
DTSTART:20230326T010000
END:DAYLIGHT
BEGIN:STANDARD
TZOFFSETFROM:+0200
TZOFFSETTO:+0100
TZNAME:CET
DTSTART:20231029T010000
END:STANDARD
BEGIN:DAYLIGHT
TZOFFSETFROM:+0100
TZOFFSETTO:+0200
TZNAME:CEST
DTSTART:20240331T010000
END:DAYLIGHT
BEGIN:STANDARD
TZOFFSETFROM:+0200
TZOFFSETTO:+0100
TZNAME:CET
DTSTART:20241027T010000
END:STANDARD
BEGIN:DAYLIGHT
TZOFFSETFROM:+0100
TZOFFSETTO:+0200
TZNAME:CEST
DTSTART:20250330T010000
END:DAYLIGHT
BEGIN:STANDARD
TZOFFSETFROM:+0200
TZOFFSETTO:+0100
TZNAME:CET
DTSTART:20251026T010000
END:STANDARD
END:VTIMEZONE
BEGIN:VEVENT
DTSTART;VALUE=DATE:20240208
DTEND;VALUE=DATE:20240209
DTSTAMP:20260424T174611
CREATED:20230531T145334Z
LAST-MODIFIED:20240417T080347Z
UID:18043-1707350400-1707436799@www.renaremark.se
SUMMARY:Hur ökar vi takten? - Inställt
DESCRIPTION:Med respekt för talare och deltagare\, då deltagarantalet vid seminariet Hur ökar vi takten? trots intensiv marknadsföring\, var lågt\, beslutade styrelsen i Nätverket Renare Mark att ställa in evenemanget och belysa temat i framtida evenemang.  \nHur ökar vi takten? är ett viktigt ämne för branschen inom förorenade områden och kommer att lyftas vid inledningspasset vid Vårmötet 2024. Du som deltar vid Vårmötet bjuds också in till fortsatta diskussioner vid monterutställningen vid Vårmötet. \n 
URL:https://www.renaremark.se/event/hur-okar-vi-takten/
CATEGORIES:NRM nationella evenemang
ATTACH;FMTTYPE=image/jpeg:https://www.renaremark.se/wp-content/uploads/2023/05/time-gddf962405_1280.jpg
END:VEVENT
END:VCALENDAR