BEGIN:VCALENDAR
VERSION:2.0
PRODID:-//Renare Mark - ECPv6.15.20//NONSGML v1.0//EN
CALSCALE:GREGORIAN
METHOD:PUBLISH
X-ORIGINAL-URL:https://www.renaremark.se
X-WR-CALDESC:Händelser för Renare Mark
REFRESH-INTERVAL;VALUE=DURATION:PT1H
X-Robots-Tag:noindex
X-PUBLISHED-TTL:PT1H
BEGIN:VTIMEZONE
TZID:Europe/Stockholm
BEGIN:DAYLIGHT
TZOFFSETFROM:+0100
TZOFFSETTO:+0200
TZNAME:CEST
DTSTART:20220327T010000
END:DAYLIGHT
BEGIN:STANDARD
TZOFFSETFROM:+0200
TZOFFSETTO:+0100
TZNAME:CET
DTSTART:20221030T010000
END:STANDARD
BEGIN:DAYLIGHT
TZOFFSETFROM:+0100
TZOFFSETTO:+0200
TZNAME:CEST
DTSTART:20230326T010000
END:DAYLIGHT
BEGIN:STANDARD
TZOFFSETFROM:+0200
TZOFFSETTO:+0100
TZNAME:CET
DTSTART:20231029T010000
END:STANDARD
BEGIN:DAYLIGHT
TZOFFSETFROM:+0100
TZOFFSETTO:+0200
TZNAME:CEST
DTSTART:20240331T010000
END:DAYLIGHT
BEGIN:STANDARD
TZOFFSETFROM:+0200
TZOFFSETTO:+0100
TZNAME:CET
DTSTART:20241027T010000
END:STANDARD
END:VTIMEZONE
BEGIN:VEVENT
DTSTART;VALUE=DATE:20231205
DTEND;VALUE=DATE:20231206
DTSTAMP:20260424T211302
CREATED:20230531T145019Z
LAST-MODIFIED:20231212T185322Z
UID:18040-1701734400-1701820799@www.renaremark.se
SUMMARY:Risk
DESCRIPTION:Vill du höra det senaste inom riskbedömning och vilka metoder och verktyg som finns att tillgå? Då tror vi vårt seminarium om riskbedömning är något för dig! Det går att delta både på plats i Västerås och online. \n  \nPresentationer från Programmet\n9.40 Grundvattenförvaltningens perspektiv vid riskbedömning och åtgärder inom förorenade områden – Lars Rosenqvist\, SGU\n10.30 Naturligt höga halter av miljö- och hälsofarliga ämnen i berggrunden och utmaningar med riskbedömning av bergmaterial – Jenny Andersson\, SGU\n11.00 Animalisk livsmedelsproduktion i förorenade områden i Sverige – Ida Hallberg\, SLU\n12.30 PAH-förorenade områden och cocktail-effekter av PAH och andra polyaromatiska ämnen – Maria Larsson\, Örebro Universitet\n13.00 eDNA som ett verktyg för att koppla exponering till effekt i mark och vatten – Per-Erik Olsson\, Örebro Universitet\n13.45 Hållbar masshantering – hur bedömer vi riskerna? – Mats Fröberg\, Naturvårdsverket\n14.45 Statistik och representativa halter inom ramen för riskbedömning – Jenny Norrman\, Chalmers\n15.15 Blåbär\, plommon och detaljplaner – hur en fördjupad riskbedömning arbetas fram – Petter Wetterholm\, Wescon \nArrangörsgrupp: Linda Karlsson\, Försvarsmakten\, Emma Platesjö\, WESCON\, Peter Bruce\, WSP\, Pernilla Ljunggren\, Liljemark Consulting\, Madeléne Lundén\, WSP och Therese Steinholtz\, Empirikon Konsult (koordinator)
URL:https://www.renaremark.se/event/risk/
CATEGORIES:NRM nationella evenemang
ATTACH;FMTTYPE=image/png:https://www.renaremark.se/wp-content/uploads/2023/05/risk-sign-304093_1280.png
END:VEVENT
END:VCALENDAR