BEGIN:VCALENDAR
VERSION:2.0
PRODID:-//Renare Mark - ECPv6.15.20//NONSGML v1.0//EN
CALSCALE:GREGORIAN
METHOD:PUBLISH
X-WR-CALNAME:Renare Mark
X-ORIGINAL-URL:https://www.renaremark.se
X-WR-CALDESC:Händelser för Renare Mark
REFRESH-INTERVAL;VALUE=DURATION:PT1H
X-Robots-Tag:noindex
X-PUBLISHED-TTL:PT1H
BEGIN:VTIMEZONE
TZID:Europe/Stockholm
BEGIN:DAYLIGHT
TZOFFSETFROM:+0100
TZOFFSETTO:+0200
TZNAME:CEST
DTSTART:20220327T010000
END:DAYLIGHT
BEGIN:STANDARD
TZOFFSETFROM:+0200
TZOFFSETTO:+0100
TZNAME:CET
DTSTART:20221030T010000
END:STANDARD
BEGIN:DAYLIGHT
TZOFFSETFROM:+0100
TZOFFSETTO:+0200
TZNAME:CEST
DTSTART:20230326T010000
END:DAYLIGHT
BEGIN:STANDARD
TZOFFSETFROM:+0200
TZOFFSETTO:+0100
TZNAME:CET
DTSTART:20231029T010000
END:STANDARD
BEGIN:DAYLIGHT
TZOFFSETFROM:+0100
TZOFFSETTO:+0200
TZNAME:CEST
DTSTART:20240331T010000
END:DAYLIGHT
BEGIN:STANDARD
TZOFFSETFROM:+0200
TZOFFSETTO:+0100
TZNAME:CET
DTSTART:20241027T010000
END:STANDARD
END:VTIMEZONE
BEGIN:VEVENT
DTSTART;VALUE=DATE:20231024
DTEND;VALUE=DATE:20231026
DTSTAMP:20260425T000422
CREATED:20230531T134202Z
LAST-MODIFIED:20240110T113430Z
UID:18035-1698105600-1698278399@www.renaremark.se
SUMMARY:Innovative solutions for sustainable redevelopment and land stewardship of contaminated sites and sediments
DESCRIPTION:Final program\nThe presentations below with links are available online based on consent from the presenters:\nInternational brownfield development from a legal perspective – Linnea Ljung\, Setterwalls\nBiodiversity in contaminated land management – a future ready approach – Helena Fürst\, WSP Sweden\nImproving brownfield redevelopment decisions using tools from decision analysis and corporate finance – Peter Vanneck\, Antwerp Management School\nPushing Beyond Limits\, Engineered Phytoremediation Provides Cost-Effective\, Nature Based\, Sustainable Remediation Alternative – Paul R. Thomas\, Applied Natural Sciences\, Inc.\nUsing engineered trees and plants to control and degrade mobile groundwater contaminants in the city environment and in industrial areas. Demonstrations in practice – Maurice Henssen\, Bioclear Earth\nBiological soil and groundwater remediation as part of an integrated approach for sustainable redevelopment of industrial sites: two innovative case studies – Michaela Bhend\, GreenSoil Group\nBiopolymer-based remediation of PFAS contaminated soil – Anja Wilken\, Sensatec GmbH & GreenSoil Group\nStabilization and remediation of 51.000 m3 tar polluted soil in Stockholm using soil mixing  – Kim Rikard Jensen\, Arkil A/S\nLandfill of Librobäck\, a redevelopment project that benefits from collaborations and a holistic approach – Kristina Jansson\, Kemakta Konsult AB & Kristoffer Hagvall\, Ramboll Sweden AB\nMicro-organism assisted phytoremediation by hydraulic barriers and phytopiles a nature based solution – Sofie Thijs\, Bio2clean\nPassive sampling of bioavailable PAHs for risk assessment in the laboratory and field – Martin Oscar Larsson\, Waste Science and Technology\nEcotoxicological risk evaluation to minimize dredging of contaminated sediments – Kristin Elgh Dalgren\, Tyréns Sverige\nReducing risks through identification and delineation of impacted bedrock-hosted groundwater with innovative FLUTeliner methods – Patrick Nilsson\, Rosmarus Enviro AB\nThe use of drones at closed and abandoned mine waste sites in Finland – Markus Heikkinen\, Ramboll\nLife of Asset Case Study: Sustainable Re-mining and Re-closure of a Former Copper Mine Site\, Western US – David Thomas & Bob Hooley\, Jacobs\nSite Redevelopment of an Overburden Dumpsite and Infilled Mine Galleries at a Lignite Power Plant in Kosovo – Ilona van der Kroef\, TAUW \n  \nNICOLE and Nätverket Renare Mark are proud to present their joint workshop\, dedicated to driving the future of brownfield development and fostering land stewardship across diverse industrial sectors including cities\, real estate\, transport infrastructure\, and mining. This workshop aims to facilitate the exchange of knowledge\, foster professional relationships\, and explore areas of mutual interest among members of both organizations. \n_____________________________________________________________________________________________________________________ \nVi är glada genomföra ett seminarium tillsammans med NICOLE.  Det är första gången Renare Mark och NICOLE anordnar en gemensam workshop och vi ger också våra medlemmar möjligheten att delta på ett NICOLE evenemang hemma i Sverige. Renare Mark stöttar med en del av kostnaden för evenemanget för att sänka deltagaravgiften för våra medlemmar. Missa inte denna chans att träffa kollegor och höra presentationer\, som i annat fall skulle krävt en resa ner till kontinenten. \nVad är NICOLE? NICOLE är ett forum för samarbete mellan industri\, forskare\, myndigheter och konsulter om hur förorenade områden hanteras. De har med sig flera stora industrier i sin organisation\, och har mycket fokus på dialog och utveckling av arbetet med förorenade områden. Det är ett unikt tillfälle för oss i Sverige som arbetar med förorenade områden att då dela med sig av vår kunskap och samtidigt få inspiration och ta del av info om vad som pågår i vår omvärld\, men framförallt för att knyta internationella kontakter och nätverka. Både NICOLES och Renare Marks medlemmar (och andra som vill delta) är välkomna till seminariet.
URL:https://www.renaremark.se/event/innovative-technical-solutions-for-land-stewardship-and-redevelopment-for-broad-industrial-sectors-cities-real-estate-transportation-infrastructures-mining-nicole-och-renare-mark-joint-fall-works/
CATEGORIES:NRM nationella evenemang
ATTACH;FMTTYPE=image/jpeg:https://www.renaremark.se/wp-content/uploads/2023/05/malmo-g561fc65c8_1280.jpg
END:VEVENT
END:VCALENDAR