BEGIN:VCALENDAR
VERSION:2.0
PRODID:-//Renare Mark - ECPv6.15.20//NONSGML v1.0//EN
CALSCALE:GREGORIAN
METHOD:PUBLISH
X-ORIGINAL-URL:https://www.renaremark.se
X-WR-CALDESC:Händelser för Renare Mark
REFRESH-INTERVAL;VALUE=DURATION:PT1H
X-Robots-Tag:noindex
X-PUBLISHED-TTL:PT1H
BEGIN:VTIMEZONE
TZID:Europe/Stockholm
BEGIN:DAYLIGHT
TZOFFSETFROM:+0100
TZOFFSETTO:+0200
TZNAME:CEST
DTSTART:20220327T010000
END:DAYLIGHT
BEGIN:STANDARD
TZOFFSETFROM:+0200
TZOFFSETTO:+0100
TZNAME:CET
DTSTART:20221030T010000
END:STANDARD
BEGIN:DAYLIGHT
TZOFFSETFROM:+0100
TZOFFSETTO:+0200
TZNAME:CEST
DTSTART:20230326T010000
END:DAYLIGHT
BEGIN:STANDARD
TZOFFSETFROM:+0200
TZOFFSETTO:+0100
TZNAME:CET
DTSTART:20231029T010000
END:STANDARD
BEGIN:DAYLIGHT
TZOFFSETFROM:+0100
TZOFFSETTO:+0200
TZNAME:CEST
DTSTART:20240331T010000
END:DAYLIGHT
BEGIN:STANDARD
TZOFFSETFROM:+0200
TZOFFSETTO:+0100
TZNAME:CET
DTSTART:20241027T010000
END:STANDARD
END:VTIMEZONE
BEGIN:VEVENT
DTSTART;VALUE=DATE:20230209
DTEND;VALUE=DATE:20230210
DTSTAMP:20260425T131841
CREATED:20220927T175650Z
LAST-MODIFIED:20230227T231056Z
UID:17168-1675900800-1675987199@www.renaremark.se
SUMMARY:Föroreningar i mark och sediment vid båtuppställningsplatser\, hamnar\, varv och marinor
DESCRIPTION:Välkomna till vårens första seminarium – fysiskt i Göteborg eller digitalt\nDet finns tusentals båtuppställningsplatser och det är inte ovanligt att halterna tennorganiska ämnen i ytlig jord överskrider Naturvårdsverkets generella riktvärden en faktor 100. Vill du lära dig mer om dessa områden? Vilka är utmaningarna\, vilka lösningar finns? \nUnder dagen kommer du att få ta del av till föreläsningar som beskriver problematiken kring hanteringen och användningen av båtbottenfärg. Här ingår det att bland annat berätta om föroreningssituationen\, provtagningar\, undersökningsstrategier och resultat. Vi får också lyssna till åtgärdsmetoder och genomförda projekt. Vidare vill vi belysa tillsynsmyndighetens arbete\, verksamhetsutövarnas utmaningar och svårigheten när ansvaret ska fördelas mellan medlemmarna i en båtklubb. \nVi avslutar seminariet med ett diskussionspass. I anmälan kan du ange vad du vill att gruppen tar upp och diskuterar kring. \nPresentationer\n10.00 Inledning Moderator Henrik Bengtsson\, SGI\n10.20 En tillsynsmyndighets arbete med föroreningar från båtuppställningsplatser – Heidi Himmelskog\, Österåkers kommun\n10.45 XRF-inventering av fritidsbåtar – Robert Eriksson\, Tyréns\n10.20 Provtagningsutmaningar och åtgärdstester vid båtuppställningsplatser – Peter Harms – Ringdahl\, EnviFix\n11.50 Lunch\n12.50 Rembind – Stabilisering av förorenad jord från båtuppställningsplatser – Robin Axelsson\, EnvyTech Solutions\n13.20 Verksamhetsutövarens perspektiv – varv och marinor – Göran Gross och Patric Borén\, Dyvik Marina\n13.50 Ansvar och finansiering av åtgärder som båtklubb – Carl Rönnow\, Svenska Båtunionen\n14.50 Primusprojektet – Caroline Lantz\, WSP\n15.20 Avslutande diskussionspass \nVarmt välkomna hälsar arrangörsgruppen\nHanna Hartmann\, Enviro Miljöteknik\nPeter Harms Ringdahl\, EnviFix\nHenrik Bengtsson\, SGI\nTherese Steinholtz\, Empirikon Konsult \n  \n  \n  \n 
URL:https://www.renaremark.se/event/fororeningar-vid-batuppstallningsplatser-varv-och-marinor/
CATEGORIES:NRM nationella evenemang
ATTACH;FMTTYPE=image/jpeg:https://www.renaremark.se/wp-content/uploads/2022/09/IMG_20210708_102620-scaled.jpg
END:VEVENT
END:VCALENDAR