BEGIN:VCALENDAR
VERSION:2.0
PRODID:-//Renare Mark - ECPv6.15.20//NONSGML v1.0//EN
CALSCALE:GREGORIAN
METHOD:PUBLISH
X-WR-CALNAME:Renare Mark
X-ORIGINAL-URL:https://www.renaremark.se
X-WR-CALDESC:Händelser för Renare Mark
REFRESH-INTERVAL;VALUE=DURATION:PT1H
X-Robots-Tag:noindex
X-PUBLISHED-TTL:PT1H
BEGIN:VTIMEZONE
TZID:Europe/Stockholm
BEGIN:DAYLIGHT
TZOFFSETFROM:+0100
TZOFFSETTO:+0200
TZNAME:CEST
DTSTART:20210328T010000
END:DAYLIGHT
BEGIN:STANDARD
TZOFFSETFROM:+0200
TZOFFSETTO:+0100
TZNAME:CET
DTSTART:20211031T010000
END:STANDARD
BEGIN:DAYLIGHT
TZOFFSETFROM:+0100
TZOFFSETTO:+0200
TZNAME:CEST
DTSTART:20220327T010000
END:DAYLIGHT
BEGIN:STANDARD
TZOFFSETFROM:+0200
TZOFFSETTO:+0100
TZNAME:CET
DTSTART:20221030T010000
END:STANDARD
BEGIN:DAYLIGHT
TZOFFSETFROM:+0100
TZOFFSETTO:+0200
TZNAME:CEST
DTSTART:20230326T010000
END:DAYLIGHT
BEGIN:STANDARD
TZOFFSETFROM:+0200
TZOFFSETTO:+0100
TZNAME:CET
DTSTART:20231029T010000
END:STANDARD
END:VTIMEZONE
BEGIN:VEVENT
DTSTART;VALUE=DATE:20220906
DTEND;VALUE=DATE:20220910
DTSTAMP:20260425T214904
CREATED:20191111T094637Z
LAST-MODIFIED:20211020T073349Z
UID:13394-1662422400-1662767999@www.renaremark.se
SUMMARY:NORDROCS 2022
DESCRIPTION:NORDROCS 2022 will take place in the beautiful city of Oslo\, Norway on September 6-9. The conference will be arranged at the Holmenkollen Hotel with a stunning view of the city and the Oslo fjord. The organizing committee is now preparing the first call for abstracts. This website will be updated continuously as the planning of the conference proceeds. \nThe main objective for NORDROCS is “Crossing Borders” with the goal to share and discuss the way we manage contaminated land within the Nordic countries. Across the borders of the Nordic countries\, we have a common interest and openness regarding development inside and outside the Nordic region. This is also true when it comes to  remediation of contaminated sites. \nThe Nordic countries have large natural and demographic variations. This has led to differences in approach and focus of the efforts to remediate contaminated sites. Therefore we have developed knowledge about different parts of the field of remediation of contaminated sites and this gives us a great opportunity to learn from each other. \nRead more on the NORDROCS website.
URL:https://www.renaremark.se/event/nordrocs-2020/
CATEGORIES:NRM nationella evenemang
ATTACH;FMTTYPE=image/jpeg:https://www.renaremark.se/wp-content/uploads/2019/11/scandic-holmenkollenpark-facade-view.jpg
END:VEVENT
BEGIN:VEVENT
DTSTART;VALUE=DATE:20220922
DTEND;VALUE=DATE:20220923
DTSTAMP:20260425T214904
CREATED:20220530T185021Z
LAST-MODIFIED:20221202T083912Z
UID:16920-1663804800-1663891199@www.renaremark.se
SUMMARY:Återanvändning\, avfall masshantering av lätt förorenat material inkl. muddermassor (sediment)
DESCRIPTION:Välkommen på seminariet Masshantering i Luleå den 22 september.  \nHur löser vi utmaningen att återvinna mer\, minska deponeringen och skapa ett cirkulärt materialflöde? \nUnder en heldag fick vi lyssna till intressanta och högaktuella ämnen kopplade till masshantering. Dagen inleddes av Gustaf Sjölund som med sin långa erfarenhet av masshantering guidade oss genom dagen. Vi fick bland annat lyssna till Naturvårdsverket och den nya handboken återanvändning av massor\, solidifering och stabilisering av sediment på land\, hur vi skapar giftfria cirkulära materialflöden\, avsättning av lätt förorenade jordar och mycket mer. \nVi tog emot 50 personer på plats i Luleå och seminariet videosändes också för de som inte hade möjlighet att delta på plats. \nNedan finns presentationerna från seminariet. För att få tillgång behövs antingen medlemskap i Renare Mark eller att man deltog vid seminariet. \nPresentationer\nNaturvårdsverkets pågående arbete inom masshantering – Kristina Widenberg Naturvårdsverket\nStabilisering och solidifiering av lersediment på land – Anna Kruger\, Västerås Stad\nByggindustrins omställning- Från uttag till ”återtag” av råvara – Johannes Pettersson\, Swerock\nSå skapar vi giftfria cirkulära materialflöden – Carl Zide\, Massbalans\nFrågor om masshantering ur en jurists perspektiv med – Maria Pajkull\, Front Advokater AB\nFörädling till användbart material – Pär Johansson\, Norrlandsjord\nMassbalans\, masshantering eller deponi\, en planeringsfråga – Mauritz Ejderhamn Roupé\, Granitor
URL:https://www.renaremark.se/event/vad-ar-bakgrundshalter-ateranvandning-avfall-masshantering-av-latt-fororenat-material-inkl-muddermassor-sediment/
CATEGORIES:NRM nationella evenemang
ATTACH;FMTTYPE=image/jpeg:https://www.renaremark.se/wp-content/uploads/2022/05/dig-grav.jpg
END:VEVENT
END:VCALENDAR