BEGIN:VCALENDAR
VERSION:2.0
PRODID:-//Renare Mark - ECPv6.15.20//NONSGML v1.0//EN
CALSCALE:GREGORIAN
METHOD:PUBLISH
X-ORIGINAL-URL:https://www.renaremark.se
X-WR-CALDESC:Händelser för Renare Mark
REFRESH-INTERVAL;VALUE=DURATION:PT1H
X-Robots-Tag:noindex
X-PUBLISHED-TTL:PT1H
BEGIN:VTIMEZONE
TZID:Europe/Stockholm
BEGIN:DAYLIGHT
TZOFFSETFROM:+0100
TZOFFSETTO:+0200
TZNAME:CEST
DTSTART:20210328T010000
END:DAYLIGHT
BEGIN:STANDARD
TZOFFSETFROM:+0200
TZOFFSETTO:+0100
TZNAME:CET
DTSTART:20211031T010000
END:STANDARD
BEGIN:DAYLIGHT
TZOFFSETFROM:+0100
TZOFFSETTO:+0200
TZNAME:CEST
DTSTART:20220327T010000
END:DAYLIGHT
BEGIN:STANDARD
TZOFFSETFROM:+0200
TZOFFSETTO:+0100
TZNAME:CET
DTSTART:20221030T010000
END:STANDARD
BEGIN:DAYLIGHT
TZOFFSETFROM:+0100
TZOFFSETTO:+0200
TZNAME:CEST
DTSTART:20230326T010000
END:DAYLIGHT
BEGIN:STANDARD
TZOFFSETFROM:+0200
TZOFFSETTO:+0100
TZNAME:CET
DTSTART:20231029T010000
END:STANDARD
END:VTIMEZONE
BEGIN:VEVENT
DTSTART;VALUE=DATE:20220512
DTEND;VALUE=DATE:20220513
DTSTAMP:20260426T042949
CREATED:20210520T091003Z
LAST-MODIFIED:20220221T154240Z
UID:15744-1652313600-1652399999@www.renaremark.se
SUMMARY:Ur sakägarperspektiv - Inställt
DESCRIPTION:Evenemanget ställs tyvärr in pga flytt av Vårmötet.
URL:https://www.renaremark.se/event/ur-sakagarperspektiv/
CATEGORIES:NRM nationella evenemang
END:VEVENT
BEGIN:VEVENT
DTSTART;VALUE=DATE:20220524
DTEND;VALUE=DATE:20220526
DTSTAMP:20260426T042949
CREATED:20210907T145939Z
LAST-MODIFIED:20221027T173244Z
UID:16024-1653350400-1653523199@www.renaremark.se
SUMMARY:Vårmötet 2022
DESCRIPTION:Den 24-25 maj gick Vårmötet 2022 av stapeln på Clarion Hotel Live i Malmö. Det inleddes med studiebesök och mingel den 23 maj och traditionsenlig middag den 24 maj. \nEfter att 2020-2021 präglats av den pågående pandemin var det väldigt roligt att äntligen få träffas igen och genomföra ett fysiskt Vårmöte. Vi passade också  på att fira Nätverkets 20-års jubileum ett år för sent med extra mycket festligheter och en och annan överraskning! \nVi ville med hjälp av aktörer från branschen sprida kunskap inom viktiga ämnesområden kopplat till det övergripande temat för året På god väg! Med 2022 års Vårmöte gjorde vi en tillbakablick på branschens utveckling de senaste 20 åren – historiska avtryck\, diskuterade aktuella  frågeställningar och identifierade framtida utmaningar. \nTotalt kom närmare 500 deltagare. \nProgram\, och presentationer från konferensen hittar du nedan! Obs\, enbart tillgängligt för våra medlemmar och deltagare vid konferensen. För inloggningsuppgifter maila info@renaremark.se \nProgram \nPresentationer (klicka på namnet på passet så får ni alla presentationer för aktuellt pass) \nStudiebesök – Tyréns \nA. Inledning \nSGI\, SGU och Naturvårdsverket informerar \nB. Lunchseminarium \nNya och gamla föroreningar. Vad gör man när allt blir mycket farligare? – Mark Elert och Celia Jones\, Kemakta Konsult AB\nDDT inom f.d. skogsplantskolor – risker för djur och människor – Maria Florberger\, Golder Associates och Märta Ländell\, Niras Sweden \nC. Lunchseminarium\nBrandsnäs f.d. sågverk en sanering där statistiska och riskbaserade angreppssätt genomsyrat arbetet. – Helena Fürst\, WSP Sverige\nUndersökningar av gasavgång vid avvattning av sediment – Kristin Elgh Dahlgren\, Tyréns \nD. Sediment\nÖvergripande åtgärdsmål för förorenade sediment. – Ann-Sofie Wernersson\, SGI\nTunnskiktstäckning med reaktiva sorbent som alternativ till muddring av förorenade sediment (projekt CAPTIVE) – Jonas Gunnarsson\, Stockholms Universitet \nE. Teknik \nKombinerad In Situ Stabilisering (ISS) och In Situ Kemisk Oxidation (ISCO) – Helena Nord\, RGS Nordic\, Josephine Molin\, Evonik Active Oxygens\nBarriärteknik som saneringsalternativ vid förorenade områden – Mats Tysklind\, Umeå universitet \nF. Workshop\nÖverskattas ånginträngningsrisken för PAH i Sverige? Delta i denna workshop för att diskutera internationella skillnader och hur vi kan nå mer hållbar efterbehandling av PAH. \nG. Juridik \nBetalar verkligen förorenaren? Utvecklingen av PPP i rättspraxis – Caterina Carreman\, Foyen Advokater AB\nEn drygt 20-årig resa med miljöbalken och Renare Mark – Paulina Rautio\, Paneo AB \nH. Inledning dag 2\nTrees and agriculture – a success story! – Matilda Palm\, ECCR and agroforestry advisor på Vi-skogen\nPresentation av årets examensarbete \nI. Bidragsfinansierade projekt \nSlutsatser hittills från beställarnätverket Samverkan för Innovation – Lisa Elmerfjord\, SGU\nF.d. Färgaren kemiska tvätt – Anna Paulsson\, Sweco\, Karin Eliaeson\, SGU och Helene Jansson Länsstyrelsen Jönköpings län\nSchaktsanering med tågtransport av förorenad jord i stor skala – Niklas Jacobsen\, RGS Nordic \nJ. Forskning\nKarakterisering av per- och polyfluorerade alkylsubstanser i lakvatten från farligt avfall – Mio Pettersson\, Man-Technology-Environment (MTM) Research Centre\, Örebro University\nFastläggning av PFAS med sorbenter – lärdomar från pilotförsök och labstudier – Georgios Niarchos\, Inst. för Geo-vetenskaper Uppsala Universitet\nIn situ kemisk stabilisering av arsenikförorenad jord – demonstration i fält” – Ivan Carabante Avfallsteknik\, Luleå Tekniska Universitet \nK. Fysisk planering \nKvarlämnade restföroreningar – Hur stor är risken och för hur länge? – Ola Wik\, Lektus Samhällsbyggnad Benedict Jaeschke\, AFRY\nKan detaljplanen hantera risker vid byggande på kvarlämnade föroreningar? – Henrik von Zweigbergk\, SGU\nÅterbruk\, miljöinventering och betong – Samverkan för ökad hållbarhet – Sally Johansson\, Liljemark \nL. PFAS\nHistorien om PFAS\, ur ett svenskt perspektiv – Katrin Holmström\, Niras\nSAFF – En ny\, men väl bevisad teknik för rening av PFAS i vatten – Michelle Nilsson och Anders Holttinen Envytech Solutions \nM. Vatten\nFörslag på hur belastningen från förorenade områden kan bedömas – Henrik Bengtsson\, SGI\nPåverkan från förorenade områden i Sverige på våra vatten! – Anna Stjärne\, Vattenmyndigheten \nN. Klorerade lösningsmedel \nKlorerade lösningsmedel – Förr\, nu och i framtiden – Lena Torin och Lars Davidsson\, WSP Sverige\nKlorerade lösningsmedel i berg – det som var omöjligt är nu möjligt – Linus Nilsson\, Relement AB \nO. Klimat och hållbarhet \nÅtgärder och klimatanpassning – en litteraturstudie – Helena Branzén\, SGI\nFörbättrade riskbedömningar för att främja hållbarhet Veronica Ribé\, WSP Sverige
URL:https://www.renaremark.se/event/varmotet-2022/
CATEGORIES:NRM nationella evenemang
ATTACH;FMTTYPE=image/jpeg:https://www.renaremark.se/wp-content/uploads/2022/04/clarionlive.jpg
END:VEVENT
END:VCALENDAR