BEGIN:VCALENDAR
VERSION:2.0
PRODID:-//Renare Mark - ECPv6.15.20//NONSGML v1.0//EN
CALSCALE:GREGORIAN
METHOD:PUBLISH
X-ORIGINAL-URL:https://www.renaremark.se
X-WR-CALDESC:Händelser för Renare Mark
REFRESH-INTERVAL;VALUE=DURATION:PT1H
X-Robots-Tag:noindex
X-PUBLISHED-TTL:PT1H
BEGIN:VTIMEZONE
TZID:Europe/Stockholm
BEGIN:DAYLIGHT
TZOFFSETFROM:+0100
TZOFFSETTO:+0200
TZNAME:CEST
DTSTART:20240331T010000
END:DAYLIGHT
BEGIN:STANDARD
TZOFFSETFROM:+0200
TZOFFSETTO:+0100
TZNAME:CET
DTSTART:20241027T010000
END:STANDARD
BEGIN:DAYLIGHT
TZOFFSETFROM:+0100
TZOFFSETTO:+0200
TZNAME:CEST
DTSTART:20250330T010000
END:DAYLIGHT
BEGIN:STANDARD
TZOFFSETFROM:+0200
TZOFFSETTO:+0100
TZNAME:CET
DTSTART:20251026T010000
END:STANDARD
BEGIN:DAYLIGHT
TZOFFSETFROM:+0100
TZOFFSETTO:+0200
TZNAME:CEST
DTSTART:20260329T010000
END:DAYLIGHT
BEGIN:STANDARD
TZOFFSETFROM:+0200
TZOFFSETTO:+0100
TZNAME:CET
DTSTART:20261025T010000
END:STANDARD
END:VTIMEZONE
BEGIN:VEVENT
DTSTART;TZID=Europe/Stockholm:20251002T133000
DTEND;TZID=Europe/Stockholm:20251002T170000
DTSTAMP:20260420T111721
CREATED:20250814T120830Z
LAST-MODIFIED:20250815T120423Z
UID:20632-1759411800-1759424400@www.renaremark.se
SUMMARY:PFAS-rening – tekniker för ytvatten\, grundvatten och mark - Norconsult och RISE
DESCRIPTION:Den 9 september 2025 bjuder Norconsult Sverige och RISE in till en eftermiddag på vårt kontor i Stockholm med fokus på praktiska lösningar för PFAS-rening i mark och vatten. Programmet innehåller presentationer och mingel med utställare samt en avslutande paneldiskussion. \n\n\n\n\n\n\nKonferensen vänder sig till bland annat process- och driftingenjörer samt handläggare på kommuner och myndigheter. Målet är att ge en översikt över tillgängliga tekniker och skapa utrymme för erfarenhetsutbyte. \nProgram:\n13.00–13.30 Registrering och kaffe\n13.30–14.30 Presentationer från utställare och företag\n14.30–16.00 Mingel\n16.00–17.00 Paneldiskussion och avslutning \nPaneldiskussionen ger möjlighet att ställa frågor och diskutera styrkor oc
URL:https://norconsult.se/aktuellt/minikonferens-om-pfas-rening-tekniker-foer-ytvatten-grundvatten-och-mark/#new_tab
CATEGORIES:Externa evenemang
ATTACH;FMTTYPE=image/png:https://www.renaremark.se/wp-content/uploads/2025/08/norconsult.png
END:VEVENT
END:VCALENDAR