BEGIN:VCALENDAR
VERSION:2.0
PRODID:-//Renare Mark - ECPv6.15.20//NONSGML v1.0//EN
CALSCALE:GREGORIAN
METHOD:PUBLISH
X-WR-CALNAME:Renare Mark
X-ORIGINAL-URL:https://www.renaremark.se
X-WR-CALDESC:Händelser för Renare Mark
REFRESH-INTERVAL;VALUE=DURATION:PT1H
X-Robots-Tag:noindex
X-PUBLISHED-TTL:PT1H
BEGIN:VTIMEZONE
TZID:Europe/Stockholm
BEGIN:DAYLIGHT
TZOFFSETFROM:+0100
TZOFFSETTO:+0200
TZNAME:CEST
DTSTART:20240331T010000
END:DAYLIGHT
BEGIN:STANDARD
TZOFFSETFROM:+0200
TZOFFSETTO:+0100
TZNAME:CET
DTSTART:20241027T010000
END:STANDARD
BEGIN:DAYLIGHT
TZOFFSETFROM:+0100
TZOFFSETTO:+0200
TZNAME:CEST
DTSTART:20250330T010000
END:DAYLIGHT
BEGIN:STANDARD
TZOFFSETFROM:+0200
TZOFFSETTO:+0100
TZNAME:CET
DTSTART:20251026T010000
END:STANDARD
BEGIN:DAYLIGHT
TZOFFSETFROM:+0100
TZOFFSETTO:+0200
TZNAME:CEST
DTSTART:20260329T010000
END:DAYLIGHT
BEGIN:STANDARD
TZOFFSETFROM:+0200
TZOFFSETTO:+0100
TZNAME:CET
DTSTART:20261025T010000
END:STANDARD
END:VTIMEZONE
BEGIN:VEVENT
DTSTART;TZID=Europe/Stockholm:20250828T120000
DTEND;TZID=Europe/Stockholm:20250828T124500
DTSTAMP:20260420T134221
CREATED:20250819T072300Z
LAST-MODIFIED:20250819T072300Z
UID:20641-1756382400-1756385100@www.renaremark.se
SUMMARY:Lunchwebbinarium: Hitta din verksamhetsutövare - Paneo
DESCRIPTION:Ska du göra en ansvarsutredning men vet inte var du ska börja? Eller känns det svårt att hitta information om vem som är ansvarig? Då är det här webbinariet för dig.\n\n\n\n\nMiljöjuristen Paulina Rautio delar med sig av sina bästa tips på hur du kan spåra rätt verksamhetsutövare – och var du hittar den information du behöver. Du får ta del av de konkreta källor hon själv använder i sitt arbete med ansvarsutredningar för både tillsynsmyndigheter och verksamhetsutövare.
URL:https://paneo.se/lunchwebbinarium-hitta-din-verksamhetsutovare/#new_tab
CATEGORIES:Externa evenemang
ATTACH;FMTTYPE=image/png:https://www.renaremark.se/wp-content/uploads/2024/12/Paneo.png
END:VEVENT
END:VCALENDAR