BEGIN:VCALENDAR
VERSION:2.0
PRODID:-//Renare Mark - ECPv6.15.20//NONSGML v1.0//EN
CALSCALE:GREGORIAN
METHOD:PUBLISH
X-ORIGINAL-URL:https://www.renaremark.se
X-WR-CALDESC:Händelser för Renare Mark
REFRESH-INTERVAL;VALUE=DURATION:PT1H
X-Robots-Tag:noindex
X-PUBLISHED-TTL:PT1H
BEGIN:VTIMEZONE
TZID:Europe/Stockholm
BEGIN:DAYLIGHT
TZOFFSETFROM:+0100
TZOFFSETTO:+0200
TZNAME:CEST
DTSTART:20240331T010000
END:DAYLIGHT
BEGIN:STANDARD
TZOFFSETFROM:+0200
TZOFFSETTO:+0100
TZNAME:CET
DTSTART:20241027T010000
END:STANDARD
BEGIN:DAYLIGHT
TZOFFSETFROM:+0100
TZOFFSETTO:+0200
TZNAME:CEST
DTSTART:20250330T010000
END:DAYLIGHT
BEGIN:STANDARD
TZOFFSETFROM:+0200
TZOFFSETTO:+0100
TZNAME:CET
DTSTART:20251026T010000
END:STANDARD
BEGIN:DAYLIGHT
TZOFFSETFROM:+0100
TZOFFSETTO:+0200
TZNAME:CEST
DTSTART:20260329T010000
END:DAYLIGHT
BEGIN:STANDARD
TZOFFSETFROM:+0200
TZOFFSETTO:+0100
TZNAME:CET
DTSTART:20261025T010000
END:STANDARD
END:VTIMEZONE
BEGIN:VEVENT
DTSTART;TZID=Europe/Stockholm:20250520T120000
DTEND;TZID=Europe/Stockholm:20250520T130000
DTSTAMP:20260420T182131
CREATED:20250429T161036Z
LAST-MODIFIED:20250429T161036Z
UID:20328-1747742400-1747746000@www.renaremark.se
SUMMARY:Ambitox bjuder in till Effektbaserad analys i förorenade områden
DESCRIPTION:Webbinarium om effektbaserade metoder för kartläggning och riskbedömning av förorenade områden. Dessa analysmetoder\, utvecklade för tillämpning mot förorenade områden inom forskningprofilen EnForce vid Örebro universitet\, används redan inom europeisk miljöövervakning och har potential att tillämpas på markföroreningar i linje med ambitionerna i det planerade EU-direktivet för jordövervakning och resiliens. \nWebbinariet riktar sig till branschaktörer\, myndigheter och forskare inom kemikaliehantering och miljöriskbedömning. \n\n\n\n\n\n\n\n\n\n\n \n\n\n\n\n\n\n\n\n\n\n\n\nProgram\nVi presenterar metodernas funktion\, praktiska tillämpning och en effektbaserad riskbedömningsmodell som kan ge underlag för åtgärder som sanering och övervakning. Fördelarna inkluderar bättre miljörelevans\, kostnadseffektivitet och upptäckt av okända farliga ämnen. Fallstudier och jämförelser med traditionella tekniker ingår. \n\n\nInledning \n\n\nIntroduktion till Effektbaserad analys och Isbergsanalys (Magnus Engwall) \n\n\nRiskmodell och praktiska tillämpningar (Maria Larsson) \n\n\nAvslutning
URL:https://www.ambiotox.se/webbinarium#aktuellt#new_tab
CATEGORIES:Externa evenemang
ATTACH;FMTTYPE=image/png:https://www.renaremark.se/wp-content/uploads/2025/04/Ambiotox.png
END:VEVENT
BEGIN:VEVENT
DTSTART;TZID=Europe/Stockholm:20250527T080000
DTEND;TZID=Europe/Stockholm:20250527T170000
DTSTAMP:20260420T182131
CREATED:20250506T152834Z
LAST-MODIFIED:20250506T152923Z
UID:20340-1748332800-1748365200@www.renaremark.se
SUMMARY:IVL håller PFAS Roadshow i Skellefteå – en dag för kunskap och lösningar
DESCRIPTION:Följ med på en kostnadsfri heldag den 27 maj där vi fokuserar på PFAS-utmaningar i norra Sverige. Lyssna till experter\, ta del av praktiska lösningar och möt aktörer som arbetar med analys\, sanering och rening av PFAS. Seminariet vänder sig till dig som är intresserad i att jobba med PFAS frågor. Välkommen att lära om PFAS problematiken och lösningar! \n\n\n\n\n\nDeltagandet är kostnadsfritt\, och under dagen bjuds det på fika samt en vegetarisk lunch.\nDu får lyssna till experter med erfarenhet av PFAS i Sverige som kommer att tala om bland annat problematiken i norra Sverige\, hälsorisker och miljöpåverkan vid exponering\, ansvarsfull masshantering samt reningstekniker för jord och vatten. \nVi ser fram emot en inspirerande dag ihop\, massor av möjligheter att nätverka och dela idéer! \nPlats: The Wood Hotel by Elite\nDatum: 27 maj 2025\, kl. 10.00–17.00 (registrering och kaffe från kl.09:30) \nProgram:\nNytt sidoevent på morgonen!\n08:00-09:30 Frukostseminar\nVarmt välkomna till en inspirerande morgon! Deltagare på PFAS Roadshow Skellefteå bjuds på en smakfull frukost och får möjlighet att ta del av de olika projekt och initiativ som IVL genomför i Norra Sverige. Det blir också en chans att diskutera potentiella samarbetsmöjligheter.\nMer information hittar du här: Frukostevent – Från land till hav \n  \nPFAS Roadshow i Skellefteå – program\n09:30 Registrering och kaffe\n10:00 Välkomna! \nPFAS – kemi med utmaningar för hälsa och miljö\nPatrik Anderssson\, IVL \nÅtgärdsutredning\nCamilla Wester\, Försvarsmakten \nPFAS arbete i län\, Västerbotten och Norrbotten\nArvid Lundberg\, Länsstyrelsen Västerbotten och Pär J Alapää\, Länsstyrelsen Norrbotten \nPFAS arbete i räddningstjänsten i Skellefteå\nDaniel Haarala\, Räddningsjänsten Skellefteå kommun \nPFAS i tillståndsprävningar av avfall\nPaulina Rautio\, Paneo AB \nLunch   \nReningstekniker\, panel \nHur löser vi PFAS pusslet tillsammans? – Labbets perspektiv\nPatrik Van Hees\, Eurofins \nPFAS sanering\nIvan Carabante\, Luleå Tekniska Universitet \nValidering av metoder för PFAS -provtagning i rökgaser\nJohan Strandberg\, IVL \nFika  \nArbete på svenska flygplatser\nJonas Henriksson\, IVL \nUpphandling åtgärdsarbete ur entreprenörers perspektiv.\nSay Svanström\, Liljemark Consulting \nPFAS arbetsflöden\nMarko Filipovic\, Sellén och Filipovic \n17:00 Programmet avslutas
URL:https://www.ivl.se/evenemang/pfas_roadshow_i_skelleftea_1469.html#new_tab
CATEGORIES:Externa evenemang
ATTACH;FMTTYPE=image/jpeg:https://www.renaremark.se/wp-content/uploads/2025/05/Lejonstromsbron.jpg
END:VEVENT
BEGIN:VEVENT
DTSTART;TZID=Europe/Stockholm:20250527T093000
DTEND;TZID=Europe/Stockholm:20250527T163000
DTSTAMP:20260420T182131
CREATED:20250404T080803Z
LAST-MODIFIED:20250414T115424Z
UID:20216-1748338200-1748363400@www.renaremark.se
SUMMARY:Statens Geotekniska Institut Välkomnar till en dag med fokus på biokol som behandlingsmetod för att åtgärda förorenad mark
DESCRIPTION:Biokol som saneringsmetod\nTisdagen den 27 maj bjuder NSR in till en slutkonferens för projekt BALANCE – Behandling av lågförorenad jord med biokol tillverkad av organiskt avfall för hållbar resursanvändning och cirkulär ekonomi. BALANCE är ett forskningsprojekt finansierat av RE:Source (Vinnova\, Formas och Energimyndigheten). \nVälkommen till en dag med fokus på biokol som behandlingsmetod för att åtgärda förorenad mark. \n\n\n\n\n\n\n\n\n\n\n\n\n\n\n\n\n\n\n\n\n\n\n\n\n\nDatum\, tid och plats\nDen 27 maj 2025\, klockan 09:30 till 16:30 på RecoPark\, Välavägen 198 i Helsingborg. \n\n\n\n\n\n\n\n\n\n  \nPreliminärt program för dagen\nFörmiddag (ca 9:30-12:00)\nMorgonfika och nätverkande \nVälkommen till NSR! \nStabilisering av tungmetaller med biokol \nStabilisering av organiska miljögifter med biokol \nEffekter av biokol på jordhälsa \nHur påverkar biokol markens kvävecykel? \nLunch \nEftermiddag (ca 13:00-14:00)\nBiokol för att förhindra ånginträngning av flyktiga föroreningar \nRiskbedömning och livscykelanalys av biokol som åtgärdsmetod \nSlutsatser att ta med sig från projekt BALANCE \nAvslutande diskussion – Vägen framåt \nEftermiddagsfika \nStudiebesök inom NSR:s anläggning (ca 15:00-16:30)\nBesök vid projektets fältförsök \nBesök vid NSR:s biokolsanläggning
URL:https://mailchi.mp/nsr/projektbalance-8038545?e=ed34a56524#new_tab
LOCATION:RecoPark\, Välavägen 198 i Helsingborg
CATEGORIES:Externa evenemang
ATTACH;FMTTYPE=image/png:https://www.renaremark.se/wp-content/uploads/2021/03/sgi-logo.png
END:VEVENT
END:VCALENDAR