BEGIN:VCALENDAR
VERSION:2.0
PRODID:-//Renare Mark - ECPv6.15.20//NONSGML v1.0//EN
CALSCALE:GREGORIAN
METHOD:PUBLISH
X-WR-CALNAME:Renare Mark
X-ORIGINAL-URL:https://www.renaremark.se
X-WR-CALDESC:Händelser för Renare Mark
REFRESH-INTERVAL;VALUE=DURATION:PT1H
X-Robots-Tag:noindex
X-PUBLISHED-TTL:PT1H
BEGIN:VTIMEZONE
TZID:Europe/Stockholm
BEGIN:DAYLIGHT
TZOFFSETFROM:+0100
TZOFFSETTO:+0200
TZNAME:CEST
DTSTART:20240331T010000
END:DAYLIGHT
BEGIN:STANDARD
TZOFFSETFROM:+0200
TZOFFSETTO:+0100
TZNAME:CET
DTSTART:20241027T010000
END:STANDARD
BEGIN:DAYLIGHT
TZOFFSETFROM:+0100
TZOFFSETTO:+0200
TZNAME:CEST
DTSTART:20250330T010000
END:DAYLIGHT
BEGIN:STANDARD
TZOFFSETFROM:+0200
TZOFFSETTO:+0100
TZNAME:CET
DTSTART:20251026T010000
END:STANDARD
BEGIN:DAYLIGHT
TZOFFSETFROM:+0100
TZOFFSETTO:+0200
TZNAME:CEST
DTSTART:20260329T010000
END:DAYLIGHT
BEGIN:STANDARD
TZOFFSETFROM:+0200
TZOFFSETTO:+0100
TZNAME:CET
DTSTART:20261025T010000
END:STANDARD
END:VTIMEZONE
BEGIN:VEVENT
DTSTART;TZID=Europe/Stockholm:20250404T093000
DTEND;TZID=Europe/Stockholm:20250404T113000
DTSTAMP:20260420T194152
CREATED:20250317T124022Z
LAST-MODIFIED:20250317T124022Z
UID:20161-1743759000-1743766200@www.renaremark.se
SUMMARY:Recycling Brownfields: Incorperating Soil Health into urban development projects  - SOILveR
DESCRIPTION:In 2025 SOILveR organizes a webinar series on the integration of Soil Health in decision-making processes at various scales. The stimulation of healthy soils\, soil health assessment as well as sustainable soil management will be tackled.\nThe assessment and management of Soil health in relation to the proposal for a European Soil Monitoring framework directive raise a variety of questions: \n•    The availability of soil health data\,\n•    Soil measurements to be taken\,\n•    Scale of analysis and decision\,\n•    Aggregate soil measurements and build an integrated soil health index\,\n•    Available tools to assess soil health\,\n•    Sustainable measures to preserve or restore soil health\,\n•    Technical and legal constraints for soil management\, etc. \nQuestions related to stakeholders’ engagement and transformation challenges:
URL:https://mailchi.mp/soilver/webinar-4th-april-2025#new_tab
CATEGORIES:Externa evenemang
ATTACH;FMTTYPE=image/png:https://www.renaremark.se/wp-content/uploads/2021/05/soilver-e1621243736517.png
END:VEVENT
BEGIN:VEVENT
DTSTART;TZID=Europe/Stockholm:20250408T083000
DTEND;TZID=Europe/Stockholm:20250408T091500
DTSTAMP:20260420T194152
CREATED:20250331T113628Z
LAST-MODIFIED:20250331T113628Z
UID:20203-1744101000-1744103700@www.renaremark.se
SUMMARY:Paneo håller frukostwebbinarium – Spridning av PFAS och klorerade lösningsmedel
DESCRIPTION:Behöver vi ny praxis om ansvar för PFAS och klorerade lösningsmedel?\n\n\n\n\nTisdag\, 8 April\, kl. 08:30 – 09.15\n\n\n\n\nNuvarande praxis från Mark- och miljööverdomstolen och Högsta domstolen kring ansvar för förorenade områden är mer anpassad för mindre flyktiga föroreningar såsom t.ex. metaller. Men hur hanteras mer flyktiga föroreningar som PFAS och klorerade lösningsmedel? \nI detta webbinar går Paneos miljöjurist Paulina Rautio igenom de utmaningar som dagens rättspraxis innebär för verksamhetsutövare och fastighetsägare vid bedömning av ansvar för föroreningar som sprids långväga – och vad hon anser bör utvecklas i framtida praxis. \n\nHur påverkar nuvarande praxis ansvarsbedömningen?\nHur ska vi se på ansvar vid spridning via ledningar såsom t.ex. va-ledningar?\nVilka risker finns för ett mer utvidgat verksamhetsutövaransvar?\nVad kan vi förvänta oss av framtida rättsutveckling?\n\n\nDet finns också ett tillfälle den 10 april kl. 12.00-12.45.\nTeams-länk skickas till dig dagen före webbinariet.  \nVälkommen att anmäla dig nedan för att delta!\n \nP.s. Webbinariet är kostnadsfritt.
URL:https://paneo.se/frukostwebbinarium-pfas/#new_tab
CATEGORIES:Externa evenemang
ATTACH;FMTTYPE=image/png:https://www.renaremark.se/wp-content/uploads/2024/12/Paneo.png
END:VEVENT
BEGIN:VEVENT
DTSTART;TZID=Europe/Stockholm:20250410T120000
DTEND;TZID=Europe/Stockholm:20250410T124500
DTSTAMP:20260420T194152
CREATED:20250331T113843Z
LAST-MODIFIED:20250331T113843Z
UID:20205-1744286400-1744289100@www.renaremark.se
SUMMARY:Paneo håller lunchwebbinarium – Spridning av PFAS och klorerade lösningsmedel
DESCRIPTION:Behöver vi ny praxis om ansvar för PFAS och klorerade lösningsmedel?\n\n\n\n\nTorsdag\, 10 April\, kl. 12:00 – 12.45\n\n\n\n\nNuvarande praxis från Mark- och miljööverdomstolen och Högsta domstolen kring ansvar för förorenade områden är mer anpassad för mindre flyktiga föroreningar såsom t.ex. metaller. Men hur hanteras mer flyktiga föroreningar som PFAS och klorerade lösningsmedel? \nI detta webbinar går Paneos miljöjurist Paulina Rautio igenom de utmaningar som dagens rättspraxis innebär för verksamhetsutövare och fastighetsägare vid bedömning av ansvar för föroreningar som sprids långväga – och vad hon anser bör utvecklas i framtida praxis. \n\nHur påverkar nuvarande praxis ansvarsbedömningen?\nHur ska vi se på ansvar vid spridning via ledningar såsom t.ex. va-ledningar?\nVilka risker finns för ett mer utvidgat verksamhetsutövaransvar?\nVad kan vi förvänta oss av framtida rättsutveckling?\n\n\nDet finns också ett tillfälle den 8 april kl. 08.30-09.15.\nTeams-länk skickas till dig dagen före webbinariet.  \nVälkommen att anmäla dig nedan för att delta!\n \nP.s. Webbinariet är kostnadsfritt.
URL:https://paneo.se/lunchwebbinarium-spridning-av-pfas-och-klorerade-losningsmedel/#new_tab
CATEGORIES:Externa evenemang
ATTACH;FMTTYPE=image/png:https://www.renaremark.se/wp-content/uploads/2024/12/Paneo.png
END:VEVENT
BEGIN:VEVENT
DTSTART;TZID=Europe/Stockholm:20250424T120000
DTEND;TZID=Europe/Stockholm:20250424T130000
DTSTAMP:20260420T194152
CREATED:20250407T094715Z
LAST-MODIFIED:20250407T094715Z
UID:20225-1745496000-1745499600@www.renaremark.se
SUMMARY:Ambiotox ordnar webbinarium - Effektbaserad analys i förorenade områden
DESCRIPTION:Webbinarium den 24e april klockan 12:00-13:00. \nOm effektbaserade metoder för kartläggning och riskbedömning av förorenade områden. Dessa analysmetoder\, utvecklade för tillämpning mot förorenade områden inom forskningprofilen EnForce vid Örebro universitet\, används redan inom europeisk miljöövervakning och har potential att tillämpas på markföroreningar i linje med ambitionerna i det planerade EU-direktivet för jordövervakning och resiliens. \nWebbinariet riktar sig till branschaktörer\, myndigheter och forskare inom kemikaliehantering och miljöriskbedömning. \nProgram\nVi presenterar metodernas funktion\, praktiska tillämpning och en effektbaserad riskbedömningsmodell som kan ge underlag för åtgärder som sanering och övervakning. Fördelarna inkluderar bättre miljörelevans\, kostnadseffektivitet och upptäckt av okända farliga ämnen. Fallstudier och jämförelser med traditionella tekniker ingår. \n\n\nInledning \n\n\nIntroduktion till Effektbaserad analys och Isbergsanalys (Magnus Engwall) \n\n\nRiskmodell och praktiska tillämpningar (Maria Larsson) \n\n\nAvslutning \n\n\n24:e april 2025\, kl. 12.00-13.00 \n 
URL:https://www.ambiotox.se/webbinarium#new_tab
CATEGORIES:Externa evenemang
ATTACH;FMTTYPE=image/png:https://www.renaremark.se/wp-content/uploads/2025/04/Ambiotox.png
END:VEVENT
END:VCALENDAR