BEGIN:VCALENDAR
VERSION:2.0
PRODID:-//Renare Mark - ECPv6.15.20//NONSGML v1.0//EN
CALSCALE:GREGORIAN
METHOD:PUBLISH
X-ORIGINAL-URL:https://www.renaremark.se
X-WR-CALDESC:Händelser för Renare Mark
REFRESH-INTERVAL;VALUE=DURATION:PT1H
X-Robots-Tag:noindex
X-PUBLISHED-TTL:PT1H
BEGIN:VTIMEZONE
TZID:Europe/Stockholm
BEGIN:DAYLIGHT
TZOFFSETFROM:+0100
TZOFFSETTO:+0200
TZNAME:CEST
DTSTART:20240331T010000
END:DAYLIGHT
BEGIN:STANDARD
TZOFFSETFROM:+0200
TZOFFSETTO:+0100
TZNAME:CET
DTSTART:20241027T010000
END:STANDARD
BEGIN:DAYLIGHT
TZOFFSETFROM:+0100
TZOFFSETTO:+0200
TZNAME:CEST
DTSTART:20250330T010000
END:DAYLIGHT
BEGIN:STANDARD
TZOFFSETFROM:+0200
TZOFFSETTO:+0100
TZNAME:CET
DTSTART:20251026T010000
END:STANDARD
BEGIN:DAYLIGHT
TZOFFSETFROM:+0100
TZOFFSETTO:+0200
TZNAME:CEST
DTSTART:20260329T010000
END:DAYLIGHT
BEGIN:STANDARD
TZOFFSETFROM:+0200
TZOFFSETTO:+0100
TZNAME:CET
DTSTART:20261025T010000
END:STANDARD
END:VTIMEZONE
BEGIN:VEVENT
DTSTART;TZID=Europe/Stockholm:20250116T083000
DTEND;TZID=Europe/Stockholm:20250116T091500
DTSTAMP:20260421T000604
CREATED:20241217T182803Z
LAST-MODIFIED:20241217T182942Z
UID:19907-1737016200-1737018900@www.renaremark.se
SUMMARY:Webbinarium Hitta din verksamhetsutövare! - Paneo
DESCRIPTION:Har du en ansvarsutredning som du behöver göra men du vet inte riktigt var du ska börja? Eller har du svårt att hitta information om verksamhetsutövarna. Då är Paneos webbinarium Hitta din verksamhetsutövare!\, där du får praktiska tips om var du kan hitta information till din ansvarsutredning något för dig. \nDu får tips på källor som Paneos miljöjurist Paulina Rautio använder i sin jakt på verksamhetsutövare när hon gör ansvarsutredningar både för tillsynsmyndigheter och verksamhetsutövare. I webbinariet redogörs också för vilka uppgifter som finns hos de olika källorna. \nPaulina har över 10 års erfarenhet av att göra ansvarsutredningar för både tillsynsmyndigheter och verksamhetsutövare. \nAnmäl dig till frukostwebbinariet den 16 januari 2025\, kl. 8.30-9.15 här: \nP.s. Webbinariet är kostnadsfritt. D.s.
URL:https://paneo.simplero.com/page/586078#new_tab
CATEGORIES:Externa evenemang
ATTACH;FMTTYPE=image/png:https://www.renaremark.se/wp-content/uploads/2024/12/Paneo.png
END:VEVENT
BEGIN:VEVENT
DTSTART;TZID=Europe/Stockholm:20250121T120000
DTEND;TZID=Europe/Stockholm:20250121T124500
DTSTAMP:20260421T000604
CREATED:20241217T182858Z
LAST-MODIFIED:20241217T182928Z
UID:19910-1737460800-1737463500@www.renaremark.se
SUMMARY:Webbinarium Hitta din verksamhetsutövare!
DESCRIPTION:Har du en ansvarsutredning som du behöver göra men du vet inte riktigt var du ska börja? Eller har du svårt att hitta information om verksamhetsutövarna. Då är Paneos webbinarium Hitta din verksamhetsutövare!\, där du får praktiska tips om var du kan hitta information till din ansvarsutredning något för dig. \nDu får tips på källor som Paneos miljöjurist Paulina Rautio använder i sin jakt på verksamhetsutövare när hon gör ansvarsutredningar både för tillsynsmyndigheter och verksamhetsutövare. I webbinariet redogörs också för vilka uppgifter som finns hos de olika källorna. \nPaulina har över 10 års erfarenhet av att göra ansvarsutredningar för både tillsynsmyndigheter och verksamhetsutövare. \n  \nAnmäl dig till lunchwebbinariet den 21 januari 2025\, kl. 12.00-12.45. \nP.s. Webbinariet är kostnadsfritt. D.s.
URL:https://paneo.simplero.com/page/586078#new_tab
CATEGORIES:Externa evenemang
ATTACH;FMTTYPE=image/png:https://www.renaremark.se/wp-content/uploads/2024/12/Paneo.png
END:VEVENT
BEGIN:VEVENT
DTSTART;TZID=Europe/Stockholm:20250124T093000
DTEND;TZID=Europe/Stockholm:20250124T113000
DTSTAMP:20260421T000604
CREATED:20250120T120728Z
LAST-MODIFIED:20250120T120728Z
UID:20039-1737711000-1737718200@www.renaremark.se
SUMMARY:Soil Management and Land Planning - webinarium SOILveR
DESCRIPTION:Nätverket SOILveR bjuder in till ett kostnadsfritt webinarium WS på temat Soil Management and Land Planning\, som en del av seminarieserien ”Integration of Soil Health in decision-making processes at various scales”. Du är välkommen att anmäla dig via länken\, där det också finns mer information om webinarieserien. Vidarebefordra gärna inbjudan till dem du tror kan vara intresserade.
URL:https://mailchi.mp/f6ea5d024bb9/webinar-5november-17457342#new_tab
CATEGORIES:Externa evenemang
ATTACH;FMTTYPE=image/png:https://www.renaremark.se/wp-content/uploads/2021/05/soilver-e1621243736517.png
END:VEVENT
END:VCALENDAR