BEGIN:VCALENDAR
VERSION:2.0
PRODID:-//Renare Mark - ECPv6.15.20//NONSGML v1.0//EN
CALSCALE:GREGORIAN
METHOD:PUBLISH
X-ORIGINAL-URL:https://www.renaremark.se
X-WR-CALDESC:Händelser för Renare Mark
REFRESH-INTERVAL;VALUE=DURATION:PT1H
X-Robots-Tag:noindex
X-PUBLISHED-TTL:PT1H
BEGIN:VTIMEZONE
TZID:Europe/Stockholm
BEGIN:DAYLIGHT
TZOFFSETFROM:+0100
TZOFFSETTO:+0200
TZNAME:CEST
DTSTART:20230326T010000
END:DAYLIGHT
BEGIN:STANDARD
TZOFFSETFROM:+0200
TZOFFSETTO:+0100
TZNAME:CET
DTSTART:20231029T010000
END:STANDARD
BEGIN:DAYLIGHT
TZOFFSETFROM:+0100
TZOFFSETTO:+0200
TZNAME:CEST
DTSTART:20240331T010000
END:DAYLIGHT
BEGIN:STANDARD
TZOFFSETFROM:+0200
TZOFFSETTO:+0100
TZNAME:CET
DTSTART:20241027T010000
END:STANDARD
BEGIN:DAYLIGHT
TZOFFSETFROM:+0100
TZOFFSETTO:+0200
TZNAME:CEST
DTSTART:20250330T010000
END:DAYLIGHT
BEGIN:STANDARD
TZOFFSETFROM:+0200
TZOFFSETTO:+0100
TZNAME:CET
DTSTART:20251026T010000
END:STANDARD
END:VTIMEZONE
BEGIN:VEVENT
DTSTART;TZID=Europe/Stockholm:20240917T090000
DTEND;TZID=Europe/Stockholm:20240917T094500
DTSTAMP:20260421T062741
CREATED:20240521T083222Z
LAST-MODIFIED:20240521T083222Z
UID:19248-1726563600-1726566300@www.renaremark.se
SUMMARY:SGI - In situ stabilisering av PFAS i jord och grundvatten med aktivt kol
DESCRIPTION:Webbinarier om åtgärdsmetoder för PFAS\n4 juni 09:00 – 09:45\, Zoom\nFör att minska spridningen av PFAS från förorenade områden har SGI fått ett regeringsuppdrag att under perioden 2022–2026 arbeta med forskning och kunskapsspridning rörande undersökning\, utredning och åtgärder av PFAS-förorenade områden. \n\n\nInom ramen för uppdraget driver SGI fyra olika forskningsprojekt. Arbetet genomförs i samarbete med SGU. De åtgärdsmetoder för PFAS i jord och grundvatten som ska testas och utvecklas är jordtvätt\, in situ stabilisering\, termisk behandling och luftinjektering. \nResultat från de olika forskningsprojekten kommer bland annat spridas genom digitala webbinarier. Webbinarierna är 45 min långa\, de första 30 minuterna presenteras aktuellt forskningsprojekt och resterande 15 minuter finns det tid för frågor. \nUnder 2024 kommer vi hålla tre webbinarier tisdagar kl. 9.00-9.45: \n17 september – In situ stabilisering av PFAS i jord och grundvatten med aktivt kol (Dan Berggren Kleja).\nAnmäl dig här .
URL:https://sgi.se/sv/Forskning--larande/kurser-och-seminarier/aktuella-kurser/webbinare-pfas-2024/#new_tab
CATEGORIES:Externa evenemang
ATTACH;FMTTYPE=image/png:https://www.renaremark.se/wp-content/uploads/2021/03/sgi-logo.png
END:VEVENT
BEGIN:VEVENT
DTSTART;VALUE=DATE:20240919
DTEND;VALUE=DATE:20240920
DTSTAMP:20260421T062741
CREATED:20240704T164230Z
LAST-MODIFIED:20240704T164230Z
UID:19344-1726704000-1726790399@www.renaremark.se
SUMMARY:Ecoloop-Bedömning av sulfidjordar\, riskhantering
DESCRIPTION:Sulfidjordar förekommer längs kustområdet från Mälardalen till Haparanda. Jordarna är besvärliga ur ett geo- och miljötekniskt perspektiv. Med rätt handhavande kan vi undvika försurande mark- och grundvattenförhållanden och försurade vattendrag och sjöar. \nEcoloop\, Luleå tekniska universitet och Mitta inbjuder till utbildningsdag om sulfidjordar. Målgrupp är byggherrar\, entreprenörer\, teknikkonsulter och miljökontor. \nUnder ledning av Josef Mácsik (Ecoloop) och Jakob Johansson (Mitta) samt Christian Maurice och Alaleh Ziagharib (LTU) får deltagarna ta del av föredrag om sulfidjordars egenskaper samt riskbedömning.
URL:https://www.ecoloop.se/wp-content/uploads/2017/08/Inbjudan-19-september-Utbildning-sulfidjord-Stockholm__.pdf#new_tab
CATEGORIES:Externa evenemang
ATTACH;FMTTYPE=image/png:https://www.renaremark.se/wp-content/uploads/2024/07/ecoloop.png
END:VEVENT
END:VCALENDAR