BEGIN:VCALENDAR
VERSION:2.0
PRODID:-//Renare Mark - ECPv6.15.20//NONSGML v1.0//EN
CALSCALE:GREGORIAN
METHOD:PUBLISH
X-WR-CALNAME:Renare Mark
X-ORIGINAL-URL:https://www.renaremark.se
X-WR-CALDESC:Händelser för Renare Mark
REFRESH-INTERVAL;VALUE=DURATION:PT1H
X-Robots-Tag:noindex
X-PUBLISHED-TTL:PT1H
BEGIN:VTIMEZONE
TZID:Europe/Stockholm
BEGIN:DAYLIGHT
TZOFFSETFROM:+0100
TZOFFSETTO:+0200
TZNAME:CEST
DTSTART:20230326T010000
END:DAYLIGHT
BEGIN:STANDARD
TZOFFSETFROM:+0200
TZOFFSETTO:+0100
TZNAME:CET
DTSTART:20231029T010000
END:STANDARD
BEGIN:DAYLIGHT
TZOFFSETFROM:+0100
TZOFFSETTO:+0200
TZNAME:CEST
DTSTART:20240331T010000
END:DAYLIGHT
BEGIN:STANDARD
TZOFFSETFROM:+0200
TZOFFSETTO:+0100
TZNAME:CET
DTSTART:20241027T010000
END:STANDARD
BEGIN:DAYLIGHT
TZOFFSETFROM:+0100
TZOFFSETTO:+0200
TZNAME:CEST
DTSTART:20250330T010000
END:DAYLIGHT
BEGIN:STANDARD
TZOFFSETFROM:+0200
TZOFFSETTO:+0100
TZNAME:CET
DTSTART:20251026T010000
END:STANDARD
END:VTIMEZONE
BEGIN:VEVENT
DTSTART;TZID=Europe/Stockholm:20240521T120000
DTEND;TZID=Europe/Stockholm:20240521T124500
DTSTAMP:20260421T124905
CREATED:20240412T055429Z
LAST-MODIFIED:20240412T055523Z
UID:19109-1716292800-1716295500@www.renaremark.se
SUMMARY:Ejlskov Lunch Break Webinar Trap&Treat - Case Studies – 20 Years of Lessons Learned and Success Stories at Global Level
DESCRIPTION:Ejlskov and its partners AST Environmental will review the history and technical aspects of the first ever activated carbon based technology (Trap&Treat) introduced in 2002 and review some of the most interesting case studies from over 20 years of global applications while sharing lessons learned from thousands of projects.
URL:https://zoom.us/webinar/register/6617126823101/WN_eiNRgWbQQTe9_j51jBrt9Q#new_tab
CATEGORIES:Externa evenemang
ATTACH;FMTTYPE=image/jpeg:https://www.renaremark.se/wp-content/uploads/2024/04/Ejlskov_BOS200-Field-scaled.jpg
END:VEVENT
END:VCALENDAR