BEGIN:VCALENDAR
VERSION:2.0
PRODID:-//Renare Mark - ECPv6.15.20//NONSGML v1.0//EN
CALSCALE:GREGORIAN
METHOD:PUBLISH
X-WR-CALNAME:Renare Mark
X-ORIGINAL-URL:https://www.renaremark.se
X-WR-CALDESC:Händelser för Renare Mark
REFRESH-INTERVAL;VALUE=DURATION:PT1H
X-Robots-Tag:noindex
X-PUBLISHED-TTL:PT1H
BEGIN:VTIMEZONE
TZID:Europe/Stockholm
BEGIN:DAYLIGHT
TZOFFSETFROM:+0100
TZOFFSETTO:+0200
TZNAME:CEST
DTSTART:20230326T010000
END:DAYLIGHT
BEGIN:STANDARD
TZOFFSETFROM:+0200
TZOFFSETTO:+0100
TZNAME:CET
DTSTART:20231029T010000
END:STANDARD
BEGIN:DAYLIGHT
TZOFFSETFROM:+0100
TZOFFSETTO:+0200
TZNAME:CEST
DTSTART:20240331T010000
END:DAYLIGHT
BEGIN:STANDARD
TZOFFSETFROM:+0200
TZOFFSETTO:+0100
TZNAME:CET
DTSTART:20241027T010000
END:STANDARD
BEGIN:DAYLIGHT
TZOFFSETFROM:+0100
TZOFFSETTO:+0200
TZNAME:CEST
DTSTART:20250330T010000
END:DAYLIGHT
BEGIN:STANDARD
TZOFFSETFROM:+0200
TZOFFSETTO:+0100
TZNAME:CET
DTSTART:20251026T010000
END:STANDARD
END:VTIMEZONE
BEGIN:VEVENT
DTSTART;TZID=Europe/Stockholm:20240409T130000
DTEND;TZID=Europe/Stockholm:20240409T133000
DTSTAMP:20260421T144336
CREATED:20240402T101206Z
LAST-MODIFIED:20240402T110751Z
UID:19023-1712667600-1712669400@www.renaremark.se
SUMMARY:Krüger Veolia: Thermal Remediation in Urban and Complex Settings
DESCRIPTION:Welcome to the first flash webinar of the series “A clean site speaks louder than words”. The concept is a 30-minute site tour with authentic stories\, impressive results\, unexpected challenges – everything you need to get a first understanding of our thermal concept and start planning your own remedy. \nWe will take you on a virtual tour on sites in Sweden\, Denmark and Switzerland to see the projects performed in urban and complex settings: – beneath a fully-functioning office-building – along a railroad in operation – on an active construction site – in confined spaces Learn about design considerations for delicate settings\, what to expect and how to monitor these remediations. Presenters: Niels Ploug\, Sales and Product Manager\, Krüger Soil Remediation
URL:https://register.gotowebinar.com/register/9080874668501860699?source=RM#new_tab
CATEGORIES:Externa evenemang
ATTACH;FMTTYPE=image/jpeg:https://www.renaremark.se/wp-content/uploads/2024/04/Complex-Settings-scaled.jpg
END:VEVENT
BEGIN:VEVENT
DTSTART;TZID=Europe/Stockholm:20240416T130000
DTEND;TZID=Europe/Stockholm:20240416T133000
DTSTAMP:20260421T144336
CREATED:20240402T110439Z
LAST-MODIFIED:20240402T110732Z
UID:19027-1713272400-1713274200@www.renaremark.se
SUMMARY:Krüger Veolia: Thermal Remediation of Hard-to-Treat Geologies
DESCRIPTION:Join us on 30-minute virtual tour looking at thermal sites executed in challenging geologies like: – Clay – Sandstone – Crystalline rock – Peat Gain valuable insights on how to effectively heat and treat these complex settings\, including sites with high groundwater flow. During this flash webinar\, our focus will be on sharing practical experiences and results\, rather than theoretical concepts. \nWhether you are looking to gain a preliminary understanding of thermal remediation or start planning your own remedy\, this webinar is perfect for you. We encourage you to invite your colleagues to join as well\, so you can exchange impressions and ideas afterwards. Presenters: Niels Ploug\, Sales and Product Manager\, Krüger Soil Remediation\, DK Steffen Griepke\, Vice President of Technology\, TerraTherm Inc. US
URL:https://register.gotowebinar.com/register/5826811732015841116?source=RM#new_tab
CATEGORIES:Externa evenemang
ATTACH;FMTTYPE=image/jpeg:https://www.renaremark.se/wp-content/uploads/2024/04/Hard-to-treat-geologies.jpg
END:VEVENT
BEGIN:VEVENT
DTSTART;TZID=Europe/Stockholm:20240423T130000
DTEND;TZID=Europe/Stockholm:20240423T133000
DTSTAMP:20260421T144336
CREATED:20240402T110632Z
LAST-MODIFIED:20240402T110632Z
UID:19030-1713877200-1713879000@www.renaremark.se
SUMMARY:Krüger Veolia: Thermal Remediation of Hard-to-Treat Contaminants
DESCRIPTION:We are excited to invite you to our last webinar of the series ”A clean site speaks louder than words”. This time we will take you on virtual site visits in Vietnam\, Denmark\, Switzerland\, and Italy. During these visits\, you will have the opportunity to see the sites where we have successfully removed persistent contaminants such as\n✔️Dioxin\n✔️Mercury\n✔️Chlorobenzene\n✔️Anilines \nIn this webinar\, we will provide valuable insights into target treatment temperatures\, considerations for reaching these temperatures\, as well as the safety and effectiveness of our thermal technology. There will also be time to discuss the results of thermal treatment of PFAS. Get equipped you with the knowledge and understanding necessary to tackle similar challenges in your own projects. Presenters: Niels Ploug\, Sales and Product Manager\, Krüger Soil Remediation\, DK Steffen Griepke\, Vice President of Technology\, TerraTherm Inc. US
URL:https://register.gotowebinar.com/register/6902327618027573342?source=RenareMark#new_tab
CATEGORIES:Externa evenemang
ATTACH;FMTTYPE=image/jpeg:https://www.renaremark.se/wp-content/uploads/2024/04/Hard-to-treat-contaminants.jpg
END:VEVENT
END:VCALENDAR