BEGIN:VCALENDAR
VERSION:2.0
PRODID:-//Renare Mark - ECPv6.15.20//NONSGML v1.0//EN
CALSCALE:GREGORIAN
METHOD:PUBLISH
X-ORIGINAL-URL:https://www.renaremark.se
X-WR-CALDESC:Händelser för Renare Mark
REFRESH-INTERVAL;VALUE=DURATION:PT1H
X-Robots-Tag:noindex
X-PUBLISHED-TTL:PT1H
BEGIN:VTIMEZONE
TZID:Europe/Stockholm
BEGIN:DAYLIGHT
TZOFFSETFROM:+0100
TZOFFSETTO:+0200
TZNAME:CEST
DTSTART:20220327T010000
END:DAYLIGHT
BEGIN:STANDARD
TZOFFSETFROM:+0200
TZOFFSETTO:+0100
TZNAME:CET
DTSTART:20221030T010000
END:STANDARD
BEGIN:DAYLIGHT
TZOFFSETFROM:+0100
TZOFFSETTO:+0200
TZNAME:CEST
DTSTART:20230326T010000
END:DAYLIGHT
BEGIN:STANDARD
TZOFFSETFROM:+0200
TZOFFSETTO:+0100
TZNAME:CET
DTSTART:20231029T010000
END:STANDARD
BEGIN:DAYLIGHT
TZOFFSETFROM:+0100
TZOFFSETTO:+0200
TZNAME:CEST
DTSTART:20240331T010000
END:DAYLIGHT
BEGIN:STANDARD
TZOFFSETFROM:+0200
TZOFFSETTO:+0100
TZNAME:CET
DTSTART:20241027T010000
END:STANDARD
END:VTIMEZONE
BEGIN:VEVENT
DTSTART;TZID=Europe/Stockholm:20231205T130000
DTEND;TZID=Europe/Stockholm:20231205T133000
DTSTAMP:20260421T205635
CREATED:20231116T134511Z
LAST-MODIFIED:20231116T134511Z
UID:18478-1701781200-1701783000@www.renaremark.se
SUMMARY:Treatability Testing (lab/pilot) - Why and When? - Krüger Veolia
DESCRIPTION:A site with a mixture of contaminants which behaviour is not already well known\, can be challenging for a full-scale thermal soil restoration. Can we reach cleanup levels? Are there any unwanted by-products caused by the heating? Are there any safety issues with e.g. exothermic or autocatalytic reactions? Questions can be many. Use 30 min this Thermal Thursday to learn about a unique possibility to determine a heating profile\, treatment duration and predict clean-up results for the specific geology and contamination mix etc. We will walk you through the different tests we can do in the lab and in the field and give you some examples of our latest tests and the reasons to perform them.
URL:https://register.gotowebinar.com/register/4560261195139040864?source=RenareMark#new_tab
CATEGORIES:Externa evenemang
ATTACH;FMTTYPE=image/jpeg:https://www.renaremark.se/wp-content/uploads/2023/11/Lab-test.jpg
END:VEVENT
BEGIN:VEVENT
DTSTART;VALUE=DATE:20231206
DTEND;VALUE=DATE:20231208
DTSTAMP:20260421T205635
CREATED:20231016T193454Z
LAST-MODIFIED:20231016T193454Z
UID:18361-1701820800-1701993599@www.renaremark.se
SUMMARY:Sustainable Management of Contaminated Sediments: ongoing research in Sweden
DESCRIPTION:The National sediment network of governmental authorities SESAM\, in collaboration with Uppsala University\, invites you to a unique conference focusing on sustainable management of contaminated sediments. Take the opportunity to meet academic researchers and national governmental actors involved in the work with contaminated sediments in Sweden\, discuss recent findings\, ongoing projects and needs for the future\, both from an academic and governmental perspective! \nWe are welcoming contributions in a wide range of topics related to the sustainable management of contaminated sediments\, the assessment and characterization of the transport of various types of contaminants\, with a specific focus on Swedish issues. In an attempt to cover the most recent advances\, we have defined four suggestive main themes. Contributions outside these themes might also be accepted. \nConference thematic sessions: \n\nInnovative and sustainable remediation methods\nCircular economy: e.g. use of dredged sediments as a resource\nRisk assessment and monitoring of the spreading of contaminants\nFiberbanks: characterization and remediation.\n\nThe conference is organized by the Swedish Environmental Protection Agency and Uppsala University (VINNOVA project Renare sediment). Conference participation is free of charge with fika and lunch included. Dinner is at the participants’ charge. \nMore information on SESAM here: SESAM – SEdimentSAMverkan mellan myndigheter – Rena sediment \nParticipants who want to present their work are welcome to send an abstract before Friday 29th of September 2023 by email to: alizee.lehoux@naturvardsverket.se \nPlease use the attached abstract template in Word and specify in which session your abstract fits best. \nThe acceptance of abstracts will be confirmed at the latest on the 1st of November 2023. Participants will be notified whether they will give a presentation (15-20 minutes) or present a poster. The conference language will be in English. \nIf you have any questions\, please contact Jon Engström: jon.engstrom@naturvardsverket.se \nLink for registration will be sent out separately in the coming weeks. \nYou are welcome to send this forward to your potentially interested collegues. \nBest regards\, \nThe Swedish EPA and Uppsala University
URL:https://sv-se.eu.invajo.com/event/swedishepaanduppsalauniversity/conferenceonsustainablemanagementofcontaminatedsediments?viewMode=preview#new_tab
CATEGORIES:Externa evenemang
ATTACH;FMTTYPE=image/jpeg:https://www.renaremark.se/wp-content/uploads/2017/12/nv-naturvardsverket.jpg
END:VEVENT
BEGIN:VEVENT
DTSTART;TZID=Europe/Stockholm:20231208T130000
DTEND;TZID=Europe/Stockholm:20231208T160000
DTSTAMP:20260421T205635
CREATED:20231113T161029Z
LAST-MODIFIED:20231113T161047Z
UID:18462-1702040400-1702051200@www.renaremark.se
SUMMARY:Arbets- och miljömedicin - hybridseminarium om förorenad mark
DESCRIPTION:Många platser i Sverige är förorenade efter historisk industriverksamhet.\nDet kan finnas kvar metaller\, dioxiner\, trikloretylen och många andra ämnen i marken.\nNaturvårdsverket har tagit fram riktvärden för när en påvisad markförorening kan innebära en risk för människors hälsa eller miljön.\nDe arbets- och miljömedicinska klinikerna får ibland uppdrag att göra hälsoriskbedömningar för specifika platser.\nDetta seminarium kommer bland annat att belysa hur en sådan hälsoriskbedömning kan gå till och vad som är viktigt att beakta.\n\nHär finns mer info och anmälan
URL:https://ammuppsala.se/utbildningar/fororenad-mark/#new_tab
CATEGORIES:Externa evenemang
ATTACH;FMTTYPE=image/png:https://www.renaremark.se/wp-content/uploads/2023/11/arbetsmiljomedicin-uppsala.png
END:VEVENT
END:VCALENDAR