BEGIN:VCALENDAR
VERSION:2.0
PRODID:-//Renare Mark - ECPv6.15.20//NONSGML v1.0//EN
CALSCALE:GREGORIAN
METHOD:PUBLISH
X-ORIGINAL-URL:https://www.renaremark.se
X-WR-CALDESC:Händelser för Renare Mark
REFRESH-INTERVAL;VALUE=DURATION:PT1H
X-Robots-Tag:noindex
X-PUBLISHED-TTL:PT1H
BEGIN:VTIMEZONE
TZID:Europe/Stockholm
BEGIN:DAYLIGHT
TZOFFSETFROM:+0100
TZOFFSETTO:+0200
TZNAME:CEST
DTSTART:20200329T010000
END:DAYLIGHT
BEGIN:STANDARD
TZOFFSETFROM:+0200
TZOFFSETTO:+0100
TZNAME:CET
DTSTART:20201025T010000
END:STANDARD
BEGIN:DAYLIGHT
TZOFFSETFROM:+0100
TZOFFSETTO:+0200
TZNAME:CEST
DTSTART:20210328T010000
END:DAYLIGHT
BEGIN:STANDARD
TZOFFSETFROM:+0200
TZOFFSETTO:+0100
TZNAME:CET
DTSTART:20211031T010000
END:STANDARD
BEGIN:DAYLIGHT
TZOFFSETFROM:+0100
TZOFFSETTO:+0200
TZNAME:CEST
DTSTART:20220327T010000
END:DAYLIGHT
BEGIN:STANDARD
TZOFFSETFROM:+0200
TZOFFSETTO:+0100
TZNAME:CET
DTSTART:20221030T010000
END:STANDARD
END:VTIMEZONE
BEGIN:VEVENT
DTSTART;TZID=Europe/Stockholm:20210616T130000
DTEND;TZID=Europe/Stockholm:20210616T140000
DTSTAMP:20260425T230309
CREATED:20210517T091323Z
LAST-MODIFIED:20210517T091323Z
UID:15712-1623848400-1623852000@www.renaremark.se
SUMMARY:Thermal Treatment of PFAS - Does it Work? Webbinar by KRÜGER & Veolia
DESCRIPTION:PFAS is a group of man-made very persistent chemicals that is found widely around in the environment. These days many technologies are promoted to treat PFAS compounds\, but most of them do not address the source zone material. Treating the water will be going on forever as long as source zones keep feeding plumes. \nOther techniques look at fixating the PFAS in the subsurface. But is it possible to remove the source totally and permanently? Krüger has together with Veolia Australia conducted lab studies using thermal desorption and has seen some very promising results in terms of destruction of the PFAS compounds. However\, there is more to it than just presenting a certain reduction in soil concentrations. In our webinar we will provide info on the following topics:
URL:https://register.gotowebinar.com/register/1764704482856360972#new_tab
CATEGORIES:Externa evenemang
ATTACH;FMTTYPE=image/jpeg:https://www.renaremark.se/wp-content/uploads/2021/05/krugerveolia.jpg
END:VEVENT
END:VCALENDAR