BEGIN:VCALENDAR
VERSION:2.0
PRODID:-//Renare Mark - ECPv6.15.20//NONSGML v1.0//EN
CALSCALE:GREGORIAN
METHOD:PUBLISH
X-WR-CALNAME:Renare Mark
X-ORIGINAL-URL:https://www.renaremark.se
X-WR-CALDESC:Händelser för Renare Mark
REFRESH-INTERVAL;VALUE=DURATION:PT1H
X-Robots-Tag:noindex
X-PUBLISHED-TTL:PT1H
BEGIN:VTIMEZONE
TZID:Europe/Stockholm
BEGIN:DAYLIGHT
TZOFFSETFROM:+0100
TZOFFSETTO:+0200
TZNAME:CEST
DTSTART:20200329T010000
END:DAYLIGHT
BEGIN:STANDARD
TZOFFSETFROM:+0200
TZOFFSETTO:+0100
TZNAME:CET
DTSTART:20201025T010000
END:STANDARD
BEGIN:DAYLIGHT
TZOFFSETFROM:+0100
TZOFFSETTO:+0200
TZNAME:CEST
DTSTART:20210328T010000
END:DAYLIGHT
BEGIN:STANDARD
TZOFFSETFROM:+0200
TZOFFSETTO:+0100
TZNAME:CET
DTSTART:20211031T010000
END:STANDARD
BEGIN:DAYLIGHT
TZOFFSETFROM:+0100
TZOFFSETTO:+0200
TZNAME:CEST
DTSTART:20220327T010000
END:DAYLIGHT
BEGIN:STANDARD
TZOFFSETFROM:+0200
TZOFFSETTO:+0100
TZNAME:CET
DTSTART:20221030T010000
END:STANDARD
END:VTIMEZONE
BEGIN:VEVENT
DTSTART;VALUE=DATE:20210310
DTEND;VALUE=DATE:20210312
DTSTAMP:20260426T042343
CREATED:20201111T115636Z
LAST-MODIFIED:20201111T115636Z
UID:15079-1615334400-1615507199@www.renaremark.se
SUMMARY:SGI - Laktester - bedömning av förorenad jord\, avfall och byggprodukter
DESCRIPTION:Två kurstillfällen den 10 mars i Linköping och den 11 mars i Stockholm/Arlanda.\nVi bestämmer efter nyår om kurserna kommer att hållas digitalt men det är samma tider och datum som gäller i så fall. \nLäs mer om kursen och anmäl dig här. \nhttps://www.delegia.com/app/netattm/attendee/page/100200
URL:https://www.renaremark.se/event/sgi-laktester-bedomning-av-fororenad-jord-avfall-och-byggprodukter/
CATEGORIES:Externa evenemang
ATTACH;FMTTYPE=image/jpeg:https://www.renaremark.se/wp-content/uploads/2018/03/SGI_logotyp_textunder-opt.jpg
END:VEVENT
END:VCALENDAR