BEGIN:VCALENDAR
VERSION:2.0
PRODID:-//Renare Mark - ECPv6.15.20//NONSGML v1.0//EN
CALSCALE:GREGORIAN
METHOD:PUBLISH
X-ORIGINAL-URL:https://www.renaremark.se
X-WR-CALDESC:Händelser för Renare Mark
REFRESH-INTERVAL;VALUE=DURATION:PT1H
X-Robots-Tag:noindex
X-PUBLISHED-TTL:PT1H
BEGIN:VTIMEZONE
TZID:Europe/Stockholm
BEGIN:DAYLIGHT
TZOFFSETFROM:+0100
TZOFFSETTO:+0200
TZNAME:CEST
DTSTART:20190331T010000
END:DAYLIGHT
BEGIN:STANDARD
TZOFFSETFROM:+0200
TZOFFSETTO:+0100
TZNAME:CET
DTSTART:20191027T010000
END:STANDARD
BEGIN:DAYLIGHT
TZOFFSETFROM:+0100
TZOFFSETTO:+0200
TZNAME:CEST
DTSTART:20200329T010000
END:DAYLIGHT
BEGIN:STANDARD
TZOFFSETFROM:+0200
TZOFFSETTO:+0100
TZNAME:CET
DTSTART:20201025T010000
END:STANDARD
BEGIN:DAYLIGHT
TZOFFSETFROM:+0100
TZOFFSETTO:+0200
TZNAME:CEST
DTSTART:20210328T010000
END:DAYLIGHT
BEGIN:STANDARD
TZOFFSETFROM:+0200
TZOFFSETTO:+0100
TZNAME:CET
DTSTART:20211031T010000
END:STANDARD
END:VTIMEZONE
BEGIN:VEVENT
DTSTART;TZID=Europe/Stockholm:20200601T100000
DTEND;TZID=Europe/Stockholm:20200601T113000
DTSTAMP:20260426T025115
CREATED:20200514T100017Z
LAST-MODIFIED:20200514T100355Z
UID:14519-1591005600-1591011000@www.renaremark.se
SUMMARY:Webinar med PFAS tema
DESCRIPTION:PFAS är en bred grupp av föreningar för vilka mer kunskap behövs\, och detta gäller miljö- och hälsorisker samt analytisk metodik för att ge nödvändig data. Eurofins i samarbete med NIRAS och Örebro universitet (Oru) bjuder in till två webinarer med PFAS tema. Presentationerna är kopplade till forskningen som bedrivs vid Människa-Teknik-Miljö (MTM) forskningscentrum vid Oru och forskningsprofilen EnForce. Det första webinaret 1 Juni kommer handla om karaktärisering av PFAS förorenad mark och nederbörd som en källa/spridningsväg till PFAS i Stockholm. Det andra webinaret 8 Juni kommer att fokusera på tre projekt vid Oru samt PFAS i vatten och sediment från Mälaren. Mer information och anmälan finns på länkarna: \nhttps://www.eurofins.se/tjaenster/miljoe-och-vatten/nyheter-miljo/pfas-webinarer-om-mark-vatten-produkter-och-humanexponering/ \nhttps://www.eurofins.se/tjaenster/miljoe-och-vatten/nyheter-miljo/pfas-webinars-on-soil-water-products-and-human-exposure/ \n 
URL:https://www.renaremark.se/event/webinar-med-pfas-tema/
CATEGORIES:Externa evenemang
END:VEVENT
BEGIN:VEVENT
DTSTART;TZID=Europe/Stockholm:20200604T130000
DTEND;TZID=Europe/Stockholm:20200604T143000
DTSTAMP:20260426T025115
CREATED:20200514T141454Z
LAST-MODIFIED:20200514T141454Z
UID:14533-1591275600-1591281000@www.renaremark.se
SUMMARY:Webinar om mikroplaster
DESCRIPTION:Eurofins i samarbete med Jordnära\, Örebro Universitet och Lidköpings kommun bjuder in till webinar om projektet ”Mindre mängd mikroplast till Kinneviken – Kartläggning av flöden av mikroplast (MP) i vatten från Lidköpings tätort”. Studien är en undersökning och kvantifiering av mikroplast i olika vattenflöden som ytvatten (recipient)\, bäckar\, dag-\, spill- och avloppsvatten. Provtagning och rapportering har gjorts av Jordnära Miljökonsult med Lidköping kommun som beställare. I projektgruppen har även Eurofins Environment och Örebro Universitet ingått. Webinaret ges vid två tillfällen\, 29 Maj kl 13-14.30 och 4 Juni kl 13-14.30. Mer information och anmälan finns på länken: \nhttps://www.eurofins.se/tjaenster/miljoe-och-vatten/nyheter-miljo/vaelkommen-till-webinar-om-mikroplaster-29-maj-och-4-juni/
URL:https://www.renaremark.se/event/webinar-om-mikroplaster-2/
CATEGORIES:Externa evenemang
END:VEVENT
BEGIN:VEVENT
DTSTART;TZID=Europe/Stockholm:20200608T100000
DTEND;TZID=Europe/Stockholm:20200608T114500
DTSTAMP:20260426T025115
CREATED:20200514T100314Z
LAST-MODIFIED:20200514T100314Z
UID:14521-1591610400-1591616700@www.renaremark.se
SUMMARY:Webinar med PFAS tema
DESCRIPTION:PFAS är en bred grupp av föreningar för vilka mer kunskap behövs\, och detta gäller miljö- och hälsorisker samt analytisk metodik för att ge nödvändig data. Eurofins i samarbete med NIRAS och Örebro universitet (Oru) bjuder in till två webinarer med PFAS tema. Presentationerna är kopplade till forskningen som bedrivs vid Människa-Teknik-Miljö (MTM) forskningscentrum vid Oru och forskningsprofilen EnForce. Det första webinaret 1 Juni kommer handla om karaktärisering av PFAS förorenad mark och nederbörd som en källa/spridningsväg till PFAS i Stockholm. Det andra webinaret 8 Juni kommer att fokusera på tre projekt vid Oru samt PFAS i vatten och sediment från Mälaren. Mer information och anmälan finns på länkarna: \nhttps://www.eurofins.se/tjaenster/miljoe-och-vatten/nyheter-miljo/pfas-webinarer-om-mark-vatten-produkter-och-humanexponering/ \nhttps://www.eurofins.se/tjaenster/miljoe-och-vatten/nyheter-miljo/pfas-webinars-on-soil-water-products-and-human-exposure/ \n 
URL:https://www.renaremark.se/event/webinar-med-pfas-tema-2/
CATEGORIES:Externa evenemang
END:VEVENT
END:VCALENDAR