BEGIN:VCALENDAR
VERSION:2.0
PRODID:-//Renare Mark - ECPv6.15.20//NONSGML v1.0//EN
CALSCALE:GREGORIAN
METHOD:PUBLISH
X-WR-CALNAME:Renare Mark
X-ORIGINAL-URL:https://www.renaremark.se
X-WR-CALDESC:Händelser för Renare Mark
REFRESH-INTERVAL;VALUE=DURATION:PT1H
X-Robots-Tag:noindex
X-PUBLISHED-TTL:PT1H
BEGIN:VTIMEZONE
TZID:Europe/Stockholm
BEGIN:DAYLIGHT
TZOFFSETFROM:+0100
TZOFFSETTO:+0200
TZNAME:CEST
DTSTART:20190331T010000
END:DAYLIGHT
BEGIN:STANDARD
TZOFFSETFROM:+0200
TZOFFSETTO:+0100
TZNAME:CET
DTSTART:20191027T010000
END:STANDARD
BEGIN:DAYLIGHT
TZOFFSETFROM:+0100
TZOFFSETTO:+0200
TZNAME:CEST
DTSTART:20200329T010000
END:DAYLIGHT
BEGIN:STANDARD
TZOFFSETFROM:+0200
TZOFFSETTO:+0100
TZNAME:CET
DTSTART:20201025T010000
END:STANDARD
BEGIN:DAYLIGHT
TZOFFSETFROM:+0100
TZOFFSETTO:+0200
TZNAME:CEST
DTSTART:20210328T010000
END:DAYLIGHT
BEGIN:STANDARD
TZOFFSETFROM:+0200
TZOFFSETTO:+0100
TZNAME:CET
DTSTART:20211031T010000
END:STANDARD
END:VTIMEZONE
BEGIN:VEVENT
DTSTART;TZID=Europe/Stockholm:20200520T193000
DTEND;TZID=Europe/Stockholm:20200520T203000
DTSTAMP:20260426T011319
CREATED:20200514T101312Z
LAST-MODIFIED:20200514T101312Z
UID:14524-1590003000-1590006600@www.renaremark.se
SUMMARY:Trends in Groundwater Sampling: A Comparison of Groundwater Sampling Methods
DESCRIPTION:ABOUT THIS WEBINAR:\nPurging and sampling methods and protocols have evolved over the past thirty years\, from 3-5 well volume purging to low-flow purging and sampling to ”no purge” and passive sampling approaches. This webinar provides an overview of these various groundwater sampling methods and technologies and examines the benefits and limitations of each. The presentation includes guidance on the suitability of various purging and sampling methods for different hydrogeologic settings and monitoring program types. \nPRESENTATION WILL INCLUDE:\n• History of traditional purging methods\n• Problems with the traditional methods\n• Purging evolution: low-flow purging and sampling\n• Low-flow samples: what do they represent?\n• Advantages of low-flow purging and sampling\n• Passive and No-Purge: sampling methods and devices\n• Passive and No-Purge: advantages and limitations\n• Comparison of LFPS and Passive/No-Purge methods\n• Monitoring well bias and limitations\n• Multi-level sampling systems – advantages and limitations \nWHO SHOULD ATTEND?\n• Facility Environmental Managers\n• Engineers\n• Environmental Specialists\n• Plant Utility Workers\n• Engineering Firms\n• Operating Firms\n• Consultants and Regulators \nAnmäl er och läs mer här!
URL:https://www.renaremark.se/event/trends-in-groundwater-sampling-a-comparison-of-groundwater-sampling-methods/
CATEGORIES:Externa evenemang
ATTACH;FMTTYPE=image/png:https://www.renaremark.se/wp-content/uploads/2020/05/qed.png
END:VEVENT
BEGIN:VEVENT
DTSTART;TZID=Europe/Stockholm:20200528T100000
DTEND;TZID=Europe/Stockholm:20200528T110000
DTSTAMP:20260426T011319
CREATED:20200519T124735Z
LAST-MODIFIED:20200519T125016Z
UID:14545-1590660000-1590663600@www.renaremark.se
SUMMARY:Svevia Webbinarium\, Behandla förorenad jord smartare
DESCRIPTION:Ett webbinarium om att rena jord från bland annat olja\, metaller eller PFAS. \nVälkommen till Svevias kostnadsfria webbinarium om hur förorenade jordar kan renas på ett smart sätt från olja\, metaller och PFAS. Att ta hand om kontaminerad jord medför ofta kostnader i form av långa transporter och dyra deponikostnader. Genom att behandla massorna med hjälp av biologiska metoder eller via mekanisk jordtvätt kan vi minska kostnaderna. Hur det här går till i praktiken ska vi berätta mer om under vårt webbinarium i slutet av maj. \nDatum: 28 maj\nTid: 10.00–11.00\nAnmälan görs till: Emilia.Ristrom@svevia.se\nVid frågor kontakta Emilia. Länk skickas ut ett par dagar innan. \nVarmt välkomna!
URL:https://www.renaremark.se/event/svevia-webbinarium-behandla-fororenad-jord-smartare/
CATEGORIES:Externa evenemang
ATTACH;FMTTYPE=image/png:https://www.renaremark.se/wp-content/uploads/2015/12/Svevia_transparant_web.png
END:VEVENT
BEGIN:VEVENT
DTSTART;TZID=Europe/Stockholm:20200529T130000
DTEND;TZID=Europe/Stockholm:20200529T143000
DTSTAMP:20260426T011319
CREATED:20200514T141332Z
LAST-MODIFIED:20200514T141332Z
UID:14530-1590757200-1590762600@www.renaremark.se
SUMMARY:Webinar om mikroplaster
DESCRIPTION:Eurofins i samarbete med Jordnära\, Örebro Universitet och Lidköpings kommun bjuder in till webinar om projektet ”Mindre mängd mikroplast till Kinneviken – Kartläggning av flöden av mikroplast (MP) i vatten från Lidköpings tätort”. Studien är en undersökning och kvantifiering av mikroplast i olika vattenflöden som ytvatten (recipient)\, bäckar\, dag-\, spill- och avloppsvatten. Provtagning och rapportering har gjorts av Jordnära Miljökonsult med Lidköping kommun som beställare. I projektgruppen har även Eurofins Environment och Örebro Universitet ingått. Webinaret ges vid två tillfällen\, 29 Maj kl 13-14.30 och 4 Juni kl 13-14.30. Mer information och anmälan finns på länken: \nhttps://www.eurofins.se/tjaenster/miljoe-och-vatten/nyheter-miljo/vaelkommen-till-webinar-om-mikroplaster-29-maj-och-4-juni/
URL:https://www.renaremark.se/event/webinar-om-mikroplaster/
CATEGORIES:Externa evenemang
END:VEVENT
END:VCALENDAR