BEGIN:VCALENDAR
VERSION:2.0
PRODID:-//Renare Mark - ECPv6.15.20//NONSGML v1.0//EN
CALSCALE:GREGORIAN
METHOD:PUBLISH
X-WR-CALNAME:Renare Mark
X-ORIGINAL-URL:https://www.renaremark.se
X-WR-CALDESC:Händelser för Renare Mark
REFRESH-INTERVAL;VALUE=DURATION:PT1H
X-Robots-Tag:noindex
X-PUBLISHED-TTL:PT1H
BEGIN:VTIMEZONE
TZID:Europe/Stockholm
BEGIN:DAYLIGHT
TZOFFSETFROM:+0100
TZOFFSETTO:+0200
TZNAME:CEST
DTSTART:20180325T010000
END:DAYLIGHT
BEGIN:STANDARD
TZOFFSETFROM:+0200
TZOFFSETTO:+0100
TZNAME:CET
DTSTART:20181028T010000
END:STANDARD
BEGIN:DAYLIGHT
TZOFFSETFROM:+0100
TZOFFSETTO:+0200
TZNAME:CEST
DTSTART:20190331T010000
END:DAYLIGHT
BEGIN:STANDARD
TZOFFSETFROM:+0200
TZOFFSETTO:+0100
TZNAME:CET
DTSTART:20191027T010000
END:STANDARD
BEGIN:DAYLIGHT
TZOFFSETFROM:+0100
TZOFFSETTO:+0200
TZNAME:CEST
DTSTART:20200329T010000
END:DAYLIGHT
BEGIN:STANDARD
TZOFFSETFROM:+0200
TZOFFSETTO:+0100
TZNAME:CET
DTSTART:20201025T010000
END:STANDARD
END:VTIMEZONE
BEGIN:VEVENT
DTSTART;VALUE=DATE:20191205
DTEND;VALUE=DATE:20191206
DTSTAMP:20260425T181413
CREATED:20190604T082955Z
LAST-MODIFIED:20191024T080209Z
UID:12763-1575504000-1575590399@www.renaremark.se
SUMMARY:Markbyggnadsdagen 2019\, SGI
DESCRIPTION:Samhällsbyggandet behöver ta ökad hänsyn till förändrade markförhållanden och markens lämplighet för byggnation. SGI arrangerar den 5 december en markbyggnadsdag där dessa aspekter kommer belysas. Här behandlas frågor som rör risken för påverkan på hälsa vid exploatering av förorenade markområden. Speciellt förhållanden där risk för exponering av klorkolväten via ånginträngning i byggnader belyses\, med erfarenheter från Danmark och Karolinska institutet. Dagen vänder sig till dig som jobbar på kommun eller länsstyrelse\, är entreprenör eller konsult med flera. \nhttp://www.swedgeo.se/sv/kunskapscentrum/kurser-och-seminarier/aktuella-kurser/markbyggnadsdagen-2019/
URL:https://www.renaremark.se/event/markbyggnadsdagen-2019-sgi/
CATEGORIES:Externa evenemang
ATTACH;FMTTYPE=image/jpeg:https://www.renaremark.se/wp-content/uploads/2019/06/SGI-75ar-HQ.jpg
END:VEVENT
END:VCALENDAR