BEGIN:VCALENDAR
VERSION:2.0
PRODID:-//Renare Mark - ECPv6.15.20//NONSGML v1.0//EN
CALSCALE:GREGORIAN
METHOD:PUBLISH
X-WR-CALNAME:Renare Mark
X-ORIGINAL-URL:https://www.renaremark.se
X-WR-CALDESC:Händelser för Renare Mark
REFRESH-INTERVAL;VALUE=DURATION:PT1H
X-Robots-Tag:noindex
X-PUBLISHED-TTL:PT1H
BEGIN:VTIMEZONE
TZID:Europe/Stockholm
BEGIN:DAYLIGHT
TZOFFSETFROM:+0100
TZOFFSETTO:+0200
TZNAME:CEST
DTSTART:20180325T010000
END:DAYLIGHT
BEGIN:STANDARD
TZOFFSETFROM:+0200
TZOFFSETTO:+0100
TZNAME:CET
DTSTART:20181028T010000
END:STANDARD
BEGIN:DAYLIGHT
TZOFFSETFROM:+0100
TZOFFSETTO:+0200
TZNAME:CEST
DTSTART:20190331T010000
END:DAYLIGHT
BEGIN:STANDARD
TZOFFSETFROM:+0200
TZOFFSETTO:+0100
TZNAME:CET
DTSTART:20191027T010000
END:STANDARD
BEGIN:DAYLIGHT
TZOFFSETFROM:+0100
TZOFFSETTO:+0200
TZNAME:CEST
DTSTART:20200329T010000
END:DAYLIGHT
BEGIN:STANDARD
TZOFFSETFROM:+0200
TZOFFSETTO:+0100
TZNAME:CET
DTSTART:20201025T010000
END:STANDARD
END:VTIMEZONE
BEGIN:VEVENT
DTSTART;TZID=Europe/Stockholm:20191016T130000
DTEND;TZID=Europe/Stockholm:20191016T200000
DTSTAMP:20260425T150226
CREATED:20190924T130057Z
LAST-MODIFIED:20190924T130104Z
UID:13105-1571230800-1571256000@www.renaremark.se
SUMMARY:SGF i Norrland bjuder in till höstseminarium 16 oktober
DESCRIPTION:Hej alla SGFare i Norrland\,\nNu är det dags för ett nytt höstseminarium för SGF Nord. Program och anmälningsformulär för seminariet finner ni nedan.\nPassa på att anmäla dig på en gång samt uppmuntra dina kollegor att göra detsamma. \nPlats: ÅF Pöyry’s kontor i Sundsvall\, Heffners Allé 51 alternativt Skype \nDatum: onsdag 16 oktober \nKlockan: 13.00 \nAnmäl Dig på följande anmälningsformulär  \nPROGRAM
URL:http://sgf.net/web/page.aspx?refid=2623&#038;eventid=100978&#038;page=1&#038;fromview=List#new_tab
CATEGORIES:Externa evenemang
ATTACH;FMTTYPE=image/jpeg:https://www.renaremark.se/wp-content/uploads/2019/05/SGFstaende-e1580991394850.jpg
END:VEVENT
END:VCALENDAR