BEGIN:VCALENDAR
VERSION:2.0
PRODID:-//Renare Mark - ECPv6.15.20//NONSGML v1.0//EN
CALSCALE:GREGORIAN
METHOD:PUBLISH
X-ORIGINAL-URL:https://www.renaremark.se
X-WR-CALDESC:Händelser för Renare Mark
REFRESH-INTERVAL;VALUE=DURATION:PT1H
X-Robots-Tag:noindex
X-PUBLISHED-TTL:PT1H
BEGIN:VTIMEZONE
TZID:Europe/Stockholm
BEGIN:DAYLIGHT
TZOFFSETFROM:+0100
TZOFFSETTO:+0200
TZNAME:CEST
DTSTART:20180325T010000
END:DAYLIGHT
BEGIN:STANDARD
TZOFFSETFROM:+0200
TZOFFSETTO:+0100
TZNAME:CET
DTSTART:20181028T010000
END:STANDARD
BEGIN:DAYLIGHT
TZOFFSETFROM:+0100
TZOFFSETTO:+0200
TZNAME:CEST
DTSTART:20190331T010000
END:DAYLIGHT
BEGIN:STANDARD
TZOFFSETFROM:+0200
TZOFFSETTO:+0100
TZNAME:CET
DTSTART:20191027T010000
END:STANDARD
BEGIN:DAYLIGHT
TZOFFSETFROM:+0100
TZOFFSETTO:+0200
TZNAME:CEST
DTSTART:20200329T010000
END:DAYLIGHT
BEGIN:STANDARD
TZOFFSETFROM:+0200
TZOFFSETTO:+0100
TZNAME:CET
DTSTART:20201025T010000
END:STANDARD
END:VTIMEZONE
BEGIN:VEVENT
DTSTART;VALUE=DATE:20190901
DTEND;VALUE=DATE:20190907
DTSTAMP:20260425T132736
CREATED:20180205T095811Z
LAST-MODIFIED:20180205T111653Z
UID:11222-1567296000-1567814399@www.renaremark.se
SUMMARY:Europeiska Geoteknik konferensen (ECSMGE)
DESCRIPTION:Den 1-6 september\, 2019\, så arrangeras den Europeiska Geoteknik konferensen (ECSMGE). Denna gång är det våra isländska vänner som står som värd. Vi som sett lokaliteter\, hört deras diskussioner och vet hur de brukar lyckas med omöjliga saker\, ser fram emot en konferens som blir något extra. Boka redan nu in dagarna och vill du få möjlighet att presentera ditt projekt vid konferensen\, så skickar du in ditt abstrakt senast 15 april\, 2018.
URL:https://www.ecsmge-2019.com/#new_tab
CATEGORIES:Externa evenemang
ATTACH;FMTTYPE=image/png:https://www.renaremark.se/wp-content/uploads/2018/02/ecsmge-2019-logo.png
END:VEVENT
BEGIN:VEVENT
DTSTART;VALUE=DATE:20190918
DTEND;VALUE=DATE:20190919
DTSTAMP:20260425T132736
CREATED:20190630T082510Z
LAST-MODIFIED:20190630T082510Z
UID:12883-1568764800-1568851199@www.renaremark.se
SUMMARY:Samverkan kring innovativa och hållbara åtgärdstekniker - Lst Jönköping
DESCRIPTION:Samverkan kan möjliggöra en ökning i användning av innovativa och hållbara åtgärdstekniker som alternativ till schaktsaneringar. \n\n\n\nSyftet med träffen är att öka samverkan mellan olika aktörer inom branschen för att möjliggöra en ökning i användning av innovativa och hållbara åtgärdstekniker som alternativ till schaktsaneringar.\n\n\n\nSåväl miljöbalken som miljökvalitetsmål och Agenda 2030 talar för att vi behöver ha ett kretsloppstänk och verka för hållbara åtgärdstekniker vid sanering av förorenade områden. Genom samverkan kan vi få en ökad medvetenhet om innovativa och hållbara åtgärdstekniker och de fördelar som kan följa med tillämpningen av dessa\, och vi kan också få en ökad förståelse för varandras roller och perspektiv. \nVid träffen ska vi försöka motivera och inspirera till att få fler att vilja använda sig av innovativa och hållbara åtgärdstekniker\, bland annat genom att lyfta fram goda exempel.
URL:https://www.lansstyrelsen.se/jonkoping/kalenderhandelser---jonkoping/2019-06-05-samverkan-kring-innovativa-och-hallbara-atgardstekniker.html#new_tab
CATEGORIES:Externa evenemang
END:VEVENT
END:VCALENDAR