BEGIN:VCALENDAR
VERSION:2.0
PRODID:-//Renare Mark - ECPv6.15.20//NONSGML v1.0//EN
CALSCALE:GREGORIAN
METHOD:PUBLISH
X-WR-CALNAME:Renare Mark
X-ORIGINAL-URL:https://www.renaremark.se
X-WR-CALDESC:Händelser för Renare Mark
REFRESH-INTERVAL;VALUE=DURATION:PT1H
X-Robots-Tag:noindex
X-PUBLISHED-TTL:PT1H
BEGIN:VTIMEZONE
TZID:Europe/Stockholm
BEGIN:DAYLIGHT
TZOFFSETFROM:+0100
TZOFFSETTO:+0200
TZNAME:CEST
DTSTART:20180325T010000
END:DAYLIGHT
BEGIN:STANDARD
TZOFFSETFROM:+0200
TZOFFSETTO:+0100
TZNAME:CET
DTSTART:20181028T010000
END:STANDARD
BEGIN:DAYLIGHT
TZOFFSETFROM:+0100
TZOFFSETTO:+0200
TZNAME:CEST
DTSTART:20190331T010000
END:DAYLIGHT
BEGIN:STANDARD
TZOFFSETFROM:+0200
TZOFFSETTO:+0100
TZNAME:CET
DTSTART:20191027T010000
END:STANDARD
BEGIN:DAYLIGHT
TZOFFSETFROM:+0100
TZOFFSETTO:+0200
TZNAME:CEST
DTSTART:20200329T010000
END:DAYLIGHT
BEGIN:STANDARD
TZOFFSETFROM:+0200
TZOFFSETTO:+0100
TZNAME:CET
DTSTART:20201025T010000
END:STANDARD
END:VTIMEZONE
BEGIN:VEVENT
DTSTART;VALUE=DATE:20190122
DTEND;VALUE=DATE:20190123
DTSTAMP:20260425T020815
CREATED:20181003T091205Z
LAST-MODIFIED:20181003T091234Z
UID:11934-1548115200-1548201599@www.renaremark.se
SUMMARY:Eurofins och Örebro Universitet bjuder in till seminarium med tema förorenade områden
DESCRIPTION:EnForce (ENvironmental FORensics Chemical Exploration) är ett 6-årigt forskningsprogram med fokus på miljöforensik som bedrivs vid MTM (Människa-Teknik-Miljö) vid Örebro universitet. Programområden utgörs av PFAS\, PAH (PAC)\, blandföroreningar samt mikroplast. En stor del av forskningen har relevans för riskbedömning av förorenade områden och vi bjuder in till en dag med detta tema i fokus. \nLänk: \nhttps://www.eurofins.se/tjaenster/miljoe-vatten/nyheter-miljo/enforce-forskningsseminarium-med-tema-foerorenade-omraaden/
URL:https://www.renaremark.se/event/eurofins-i-samarbete-med-orebro-universitet-bjuder-in-till-seminarium-med-tema-fororenade-omraden/
CATEGORIES:Externa evenemang
ATTACH;FMTTYPE=image/jpeg:https://www.renaremark.se/wp-content/uploads/2018/02/eurofins2.jpg
END:VEVENT
END:VCALENDAR